BEGIN:VCALENDAR
VERSION:2.0
PRODID:-//Alexin Analytical Laboratories | Tigard, OR - ECPv6.15.20//NONSGML v1.0//EN
CALSCALE:GREGORIAN
METHOD:PUBLISH
X-ORIGINAL-URL:https://alexinlabs.com
X-WR-CALDESC:Events for Alexin Analytical Laboratories | Tigard, OR
REFRESH-INTERVAL;VALUE=DURATION:PT1H
X-Robots-Tag:noindex
X-PUBLISHED-TTL:PT1H
BEGIN:VTIMEZONE
TZID:America/Los_Angeles
BEGIN:DAYLIGHT
TZOFFSETFROM:-0800
TZOFFSETTO:-0700
TZNAME:PDT
DTSTART:20290311T100000
END:DAYLIGHT
BEGIN:STANDARD
TZOFFSETFROM:-0700
TZOFFSETTO:-0800
TZNAME:PST
DTSTART:20291104T090000
END:STANDARD
BEGIN:DAYLIGHT
TZOFFSETFROM:-0800
TZOFFSETTO:-0700
TZNAME:PDT
DTSTART:20300310T100000
END:DAYLIGHT
BEGIN:STANDARD
TZOFFSETFROM:-0700
TZOFFSETTO:-0800
TZNAME:PST
DTSTART:20301103T090000
END:STANDARD
BEGIN:DAYLIGHT
TZOFFSETFROM:-0800
TZOFFSETTO:-0700
TZNAME:PDT
DTSTART:20310309T100000
END:DAYLIGHT
BEGIN:STANDARD
TZOFFSETFROM:-0700
TZOFFSETTO:-0800
TZNAME:PST
DTSTART:20311102T090000
END:STANDARD
END:VTIMEZONE
BEGIN:VEVENT
DTSTART;VALUE=DATE:20300305
DTEND;VALUE=DATE:20300306
DTSTAMP:20260419T064624
CREATED:20250522T235238Z
LAST-MODIFIED:20250820T234350Z
UID:10000962-1898899200-1898985599@alexinlabs.com
SUMMARY:East Route
DESCRIPTION:
URL:https://alexinlabs.com/calendar/east-route/2030-03-05/
CATEGORIES:East Route
ORGANIZER;CN="Alexin Analytical Laboratories":MAILTO:mail@alexinlabs.com
END:VEVENT
BEGIN:VEVENT
DTSTART;VALUE=DATE:20300312
DTEND;VALUE=DATE:20300313
DTSTAMP:20260419T064624
CREATED:20250522T235238Z
LAST-MODIFIED:20250820T234350Z
UID:10000963-1899504000-1899590399@alexinlabs.com
SUMMARY:East Route
DESCRIPTION:
URL:https://alexinlabs.com/calendar/east-route/2030-03-12/
CATEGORIES:East Route
ORGANIZER;CN="Alexin Analytical Laboratories":MAILTO:mail@alexinlabs.com
END:VEVENT
BEGIN:VEVENT
DTSTART;VALUE=DATE:20300319
DTEND;VALUE=DATE:20300320
DTSTAMP:20260419T064624
CREATED:20250522T235238Z
LAST-MODIFIED:20250820T234350Z
UID:10000964-1900108800-1900195199@alexinlabs.com
SUMMARY:East Route
DESCRIPTION:
URL:https://alexinlabs.com/calendar/east-route/2030-03-19/
CATEGORIES:East Route
ORGANIZER;CN="Alexin Analytical Laboratories":MAILTO:mail@alexinlabs.com
END:VEVENT
BEGIN:VEVENT
DTSTART;VALUE=DATE:20300326
DTEND;VALUE=DATE:20300327
DTSTAMP:20260419T064624
CREATED:20250522T235238Z
LAST-MODIFIED:20250820T234350Z
UID:10000965-1900713600-1900799999@alexinlabs.com
SUMMARY:East Route
DESCRIPTION:
URL:https://alexinlabs.com/calendar/east-route/2030-03-26/
CATEGORIES:East Route
ORGANIZER;CN="Alexin Analytical Laboratories":MAILTO:mail@alexinlabs.com
END:VEVENT
END:VCALENDAR