BEGIN:VCALENDAR
VERSION:2.0
PRODID:-//Alexin Analytical Laboratories | Tigard, OR - ECPv6.15.20//NONSGML v1.0//EN
CALSCALE:GREGORIAN
METHOD:PUBLISH
X-WR-CALNAME:Alexin Analytical Laboratories | Tigard, OR
X-ORIGINAL-URL:https://alexinlabs.com
X-WR-CALDESC:Events for Alexin Analytical Laboratories | Tigard, OR
REFRESH-INTERVAL;VALUE=DURATION:PT1H
X-Robots-Tag:noindex
X-PUBLISHED-TTL:PT1H
BEGIN:VTIMEZONE
TZID:America/Los_Angeles
BEGIN:DAYLIGHT
TZOFFSETFROM:-0800
TZOFFSETTO:-0700
TZNAME:PDT
DTSTART:20290311T100000
END:DAYLIGHT
BEGIN:STANDARD
TZOFFSETFROM:-0700
TZOFFSETTO:-0800
TZNAME:PST
DTSTART:20291104T090000
END:STANDARD
BEGIN:DAYLIGHT
TZOFFSETFROM:-0800
TZOFFSETTO:-0700
TZNAME:PDT
DTSTART:20300310T100000
END:DAYLIGHT
BEGIN:STANDARD
TZOFFSETFROM:-0700
TZOFFSETTO:-0800
TZNAME:PST
DTSTART:20301103T090000
END:STANDARD
BEGIN:DAYLIGHT
TZOFFSETFROM:-0800
TZOFFSETTO:-0700
TZNAME:PDT
DTSTART:20310309T100000
END:DAYLIGHT
BEGIN:STANDARD
TZOFFSETFROM:-0700
TZOFFSETTO:-0800
TZNAME:PST
DTSTART:20311102T090000
END:STANDARD
END:VTIMEZONE
BEGIN:VEVENT
DTSTART;VALUE=DATE:20300402
DTEND;VALUE=DATE:20300403
DTSTAMP:20260419T083358
CREATED:20250522T235238Z
LAST-MODIFIED:20250820T234350Z
UID:10000966-1901318400-1901404799@alexinlabs.com
SUMMARY:East Route
DESCRIPTION:
URL:https://alexinlabs.com/calendar/east-route/2030-04-02/
CATEGORIES:East Route
ORGANIZER;CN="Alexin Analytical Laboratories":MAILTO:mail@alexinlabs.com
END:VEVENT
BEGIN:VEVENT
DTSTART;VALUE=DATE:20300409
DTEND;VALUE=DATE:20300410
DTSTAMP:20260419T083358
CREATED:20250522T235238Z
LAST-MODIFIED:20250820T234350Z
UID:10000967-1901923200-1902009599@alexinlabs.com
SUMMARY:East Route
DESCRIPTION:
URL:https://alexinlabs.com/calendar/east-route/2030-04-09/
CATEGORIES:East Route
ORGANIZER;CN="Alexin Analytical Laboratories":MAILTO:mail@alexinlabs.com
END:VEVENT
BEGIN:VEVENT
DTSTART;VALUE=DATE:20300416
DTEND;VALUE=DATE:20300417
DTSTAMP:20260419T083358
CREATED:20250522T235238Z
LAST-MODIFIED:20250820T234350Z
UID:10000968-1902528000-1902614399@alexinlabs.com
SUMMARY:East Route
DESCRIPTION:
URL:https://alexinlabs.com/calendar/east-route/2030-04-16/
CATEGORIES:East Route
ORGANIZER;CN="Alexin Analytical Laboratories":MAILTO:mail@alexinlabs.com
END:VEVENT
BEGIN:VEVENT
DTSTART;VALUE=DATE:20300423
DTEND;VALUE=DATE:20300424
DTSTAMP:20260419T083358
CREATED:20250522T235238Z
LAST-MODIFIED:20250820T234350Z
UID:10000969-1903132800-1903219199@alexinlabs.com
SUMMARY:East Route
DESCRIPTION:
URL:https://alexinlabs.com/calendar/east-route/2030-04-23/
CATEGORIES:East Route
ORGANIZER;CN="Alexin Analytical Laboratories":MAILTO:mail@alexinlabs.com
END:VEVENT
BEGIN:VEVENT
DTSTART;VALUE=DATE:20300430
DTEND;VALUE=DATE:20300501
DTSTAMP:20260419T083358
CREATED:20250522T235238Z
LAST-MODIFIED:20250820T234350Z
UID:10000970-1903737600-1903823999@alexinlabs.com
SUMMARY:East Route
DESCRIPTION:
URL:https://alexinlabs.com/calendar/east-route/2030-04-30/
CATEGORIES:East Route
ORGANIZER;CN="Alexin Analytical Laboratories":MAILTO:mail@alexinlabs.com
END:VEVENT
END:VCALENDAR