BEGIN:VCALENDAR
VERSION:2.0
PRODID:-//Alexin Analytical Laboratories | Tigard, OR - ECPv6.15.20//NONSGML v1.0//EN
CALSCALE:GREGORIAN
METHOD:PUBLISH
X-WR-CALNAME:Alexin Analytical Laboratories | Tigard, OR
X-ORIGINAL-URL:https://alexinlabs.com
X-WR-CALDESC:Events for Alexin Analytical Laboratories | Tigard, OR
REFRESH-INTERVAL;VALUE=DURATION:PT1H
X-Robots-Tag:noindex
X-PUBLISHED-TTL:PT1H
BEGIN:VTIMEZONE
TZID:America/Los_Angeles
BEGIN:DAYLIGHT
TZOFFSETFROM:-0800
TZOFFSETTO:-0700
TZNAME:PDT
DTSTART:20240310T100000
END:DAYLIGHT
BEGIN:STANDARD
TZOFFSETFROM:-0700
TZOFFSETTO:-0800
TZNAME:PST
DTSTART:20241103T090000
END:STANDARD
BEGIN:DAYLIGHT
TZOFFSETFROM:-0800
TZOFFSETTO:-0700
TZNAME:PDT
DTSTART:20250309T100000
END:DAYLIGHT
BEGIN:STANDARD
TZOFFSETFROM:-0700
TZOFFSETTO:-0800
TZNAME:PST
DTSTART:20251102T090000
END:STANDARD
BEGIN:DAYLIGHT
TZOFFSETFROM:-0800
TZOFFSETTO:-0700
TZNAME:PDT
DTSTART:20260308T100000
END:DAYLIGHT
BEGIN:STANDARD
TZOFFSETFROM:-0700
TZOFFSETTO:-0800
TZNAME:PST
DTSTART:20261101T090000
END:STANDARD
END:VTIMEZONE
BEGIN:VEVENT
DTSTART;VALUE=DATE:20250902
DTEND;VALUE=DATE:20250903
DTSTAMP:20260420T063210
CREATED:20250522T235317Z
LAST-MODIFIED:20250820T233751Z
UID:10000990-1756771200-1756857599@alexinlabs.com
SUMMARY:South Route
DESCRIPTION:
URL:https://alexinlabs.com/calendar/south-route/2025-09-02/
CATEGORIES:South Route
ORGANIZER;CN="Alexin Analytical Laboratories":MAILTO:mail@alexinlabs.com
END:VEVENT
BEGIN:VEVENT
DTSTART;VALUE=DATE:20250902
DTEND;VALUE=DATE:20250903
DTSTAMP:20260420T063210
CREATED:20250522T235238Z
LAST-MODIFIED:20250820T234350Z
UID:10000727-1756771200-1756857599@alexinlabs.com
SUMMARY:East Route
DESCRIPTION:
URL:https://alexinlabs.com/calendar/east-route/2025-09-02/
CATEGORIES:East Route
ORGANIZER;CN="Alexin Analytical Laboratories":MAILTO:mail@alexinlabs.com
END:VEVENT
BEGIN:VEVENT
DTSTART;VALUE=DATE:20250827
DTEND;VALUE=DATE:20250828
DTSTAMP:20260420T063210
CREATED:20250522T235428Z
LAST-MODIFIED:20250820T233608Z
UID:10000203-1756252800-1756339199@alexinlabs.com
SUMMARY:North Coast Route
DESCRIPTION:
URL:https://alexinlabs.com/calendar/north-coast-route/2025-08-27/
CATEGORIES:North Coast Route
ORGANIZER;CN="Alexin Analytical Laboratories":MAILTO:mail@alexinlabs.com
END:VEVENT
BEGIN:VEVENT
DTSTART;VALUE=DATE:20250826
DTEND;VALUE=DATE:20250827
DTSTAMP:20260420T063210
CREATED:20250522T235359Z
LAST-MODIFIED:20250820T234046Z
UID:10000463-1756166400-1756252799@alexinlabs.com
SUMMARY:West Route
DESCRIPTION:
URL:https://alexinlabs.com/calendar/west-route/2025-08-26/
CATEGORIES:West Route
ORGANIZER;CN="Alexin Analytical Laboratories":MAILTO:mail@alexinlabs.com
END:VEVENT
BEGIN:VEVENT
DTSTART;VALUE=DATE:20250826
DTEND;VALUE=DATE:20250827
DTSTAMP:20260420T063210
CREATED:20250522T235317Z
LAST-MODIFIED:20250820T233751Z
UID:10000989-1756166400-1756252799@alexinlabs.com
SUMMARY:South Route
DESCRIPTION:
URL:https://alexinlabs.com/calendar/south-route/2025-08-26/
CATEGORIES:South Route
ORGANIZER;CN="Alexin Analytical Laboratories":MAILTO:mail@alexinlabs.com
END:VEVENT
BEGIN:VEVENT
DTSTART;VALUE=DATE:20250826
DTEND;VALUE=DATE:20250827
DTSTAMP:20260420T063210
CREATED:20250522T235238Z
LAST-MODIFIED:20250820T234350Z
UID:10000726-1756166400-1756252799@alexinlabs.com
SUMMARY:East Route
DESCRIPTION:
URL:https://alexinlabs.com/calendar/east-route/2025-08-26/
CATEGORIES:East Route
ORGANIZER;CN="Alexin Analytical Laboratories":MAILTO:mail@alexinlabs.com
END:VEVENT
BEGIN:VEVENT
DTSTART;VALUE=DATE:20250820
DTEND;VALUE=DATE:20250821
DTSTAMP:20260420T063210
CREATED:20250605T214321Z
LAST-MODIFIED:20250820T233410Z
UID:10000130-1755648000-1755734399@alexinlabs.com
SUMMARY:South Coast Route
DESCRIPTION:
URL:https://alexinlabs.com/calendar/south-coast-route-2/2025-08-20/
CATEGORIES:South Coast Route
ORGANIZER;CN="Alexin Analytical Laboratories":MAILTO:mail@alexinlabs.com
END:VEVENT
BEGIN:VEVENT
DTSTART;VALUE=DATE:20250820
DTEND;VALUE=DATE:20250821
DTSTAMP:20260420T063210
CREATED:20250522T235428Z
LAST-MODIFIED:20250820T233608Z
UID:10000202-1755648000-1755734399@alexinlabs.com
SUMMARY:North Coast Route
DESCRIPTION:
URL:https://alexinlabs.com/calendar/north-coast-route/2025-08-20/
CATEGORIES:North Coast Route
ORGANIZER;CN="Alexin Analytical Laboratories":MAILTO:mail@alexinlabs.com
END:VEVENT
BEGIN:VEVENT
DTSTART;VALUE=DATE:20250819
DTEND;VALUE=DATE:20250820
DTSTAMP:20260420T063210
CREATED:20250522T235359Z
LAST-MODIFIED:20250820T234046Z
UID:10000462-1755561600-1755647999@alexinlabs.com
SUMMARY:West Route
DESCRIPTION:
URL:https://alexinlabs.com/calendar/west-route/2025-08-19/
CATEGORIES:West Route
ORGANIZER;CN="Alexin Analytical Laboratories":MAILTO:mail@alexinlabs.com
END:VEVENT
BEGIN:VEVENT
DTSTART;VALUE=DATE:20250819
DTEND;VALUE=DATE:20250820
DTSTAMP:20260420T063210
CREATED:20250522T235317Z
LAST-MODIFIED:20250820T233751Z
UID:10000988-1755561600-1755647999@alexinlabs.com
SUMMARY:South Route
DESCRIPTION:
URL:https://alexinlabs.com/calendar/south-route/2025-08-19/
CATEGORIES:South Route
ORGANIZER;CN="Alexin Analytical Laboratories":MAILTO:mail@alexinlabs.com
END:VEVENT
BEGIN:VEVENT
DTSTART;VALUE=DATE:20250819
DTEND;VALUE=DATE:20250820
DTSTAMP:20260420T063210
CREATED:20250522T235238Z
LAST-MODIFIED:20250820T234350Z
UID:10000725-1755561600-1755647999@alexinlabs.com
SUMMARY:East Route
DESCRIPTION:
URL:https://alexinlabs.com/calendar/east-route/2025-08-19/
CATEGORIES:East Route
ORGANIZER;CN="Alexin Analytical Laboratories":MAILTO:mail@alexinlabs.com
END:VEVENT
BEGIN:VEVENT
DTSTART;VALUE=DATE:20250813
DTEND;VALUE=DATE:20250814
DTSTAMP:20260420T063210
CREATED:20250522T235428Z
LAST-MODIFIED:20250820T233608Z
UID:10000201-1755043200-1755129599@alexinlabs.com
SUMMARY:North Coast Route
DESCRIPTION:
URL:https://alexinlabs.com/calendar/north-coast-route/2025-08-13/
CATEGORIES:North Coast Route
ORGANIZER;CN="Alexin Analytical Laboratories":MAILTO:mail@alexinlabs.com
END:VEVENT
BEGIN:VEVENT
DTSTART;VALUE=DATE:20250812
DTEND;VALUE=DATE:20250813
DTSTAMP:20260420T063210
CREATED:20250522T235359Z
LAST-MODIFIED:20250820T234046Z
UID:10000461-1754956800-1755043199@alexinlabs.com
SUMMARY:West Route
DESCRIPTION:
URL:https://alexinlabs.com/calendar/west-route/2025-08-12/
CATEGORIES:West Route
ORGANIZER;CN="Alexin Analytical Laboratories":MAILTO:mail@alexinlabs.com
END:VEVENT
BEGIN:VEVENT
DTSTART;VALUE=DATE:20250812
DTEND;VALUE=DATE:20250813
DTSTAMP:20260420T063210
CREATED:20250522T235317Z
LAST-MODIFIED:20250820T233751Z
UID:10000987-1754956800-1755043199@alexinlabs.com
SUMMARY:South Route
DESCRIPTION:
URL:https://alexinlabs.com/calendar/south-route/2025-08-12/
CATEGORIES:South Route
ORGANIZER;CN="Alexin Analytical Laboratories":MAILTO:mail@alexinlabs.com
END:VEVENT
BEGIN:VEVENT
DTSTART;VALUE=DATE:20250812
DTEND;VALUE=DATE:20250813
DTSTAMP:20260420T063210
CREATED:20250522T235238Z
LAST-MODIFIED:20250820T234350Z
UID:10000724-1754956800-1755043199@alexinlabs.com
SUMMARY:East Route
DESCRIPTION:
URL:https://alexinlabs.com/calendar/east-route/2025-08-12/
CATEGORIES:East Route
ORGANIZER;CN="Alexin Analytical Laboratories":MAILTO:mail@alexinlabs.com
END:VEVENT
BEGIN:VEVENT
DTSTART;VALUE=DATE:20250806
DTEND;VALUE=DATE:20250807
DTSTAMP:20260420T063210
CREATED:20250522T235453Z
LAST-MODIFIED:20250820T233030Z
UID:10000008-1754438400-1754524799@alexinlabs.com
SUMMARY:South Coast Route
DESCRIPTION:
URL:https://alexinlabs.com/calendar/south-coast-route/2025-08-06/
CATEGORIES:South Coast Route
ORGANIZER;CN="Alexin Analytical Laboratories":MAILTO:mail@alexinlabs.com
END:VEVENT
BEGIN:VEVENT
DTSTART;VALUE=DATE:20250806
DTEND;VALUE=DATE:20250807
DTSTAMP:20260420T063210
CREATED:20250522T235428Z
LAST-MODIFIED:20250820T233608Z
UID:10000200-1754438400-1754524799@alexinlabs.com
SUMMARY:North Coast Route
DESCRIPTION:
URL:https://alexinlabs.com/calendar/north-coast-route/2025-08-06/
CATEGORIES:North Coast Route
ORGANIZER;CN="Alexin Analytical Laboratories":MAILTO:mail@alexinlabs.com
END:VEVENT
BEGIN:VEVENT
DTSTART;VALUE=DATE:20250805
DTEND;VALUE=DATE:20250806
DTSTAMP:20260420T063210
CREATED:20250522T235359Z
LAST-MODIFIED:20250820T234046Z
UID:10000460-1754352000-1754438399@alexinlabs.com
SUMMARY:West Route
DESCRIPTION:
URL:https://alexinlabs.com/calendar/west-route/2025-08-05/
CATEGORIES:West Route
ORGANIZER;CN="Alexin Analytical Laboratories":MAILTO:mail@alexinlabs.com
END:VEVENT
BEGIN:VEVENT
DTSTART;VALUE=DATE:20250805
DTEND;VALUE=DATE:20250806
DTSTAMP:20260420T063210
CREATED:20250522T235317Z
LAST-MODIFIED:20250820T233751Z
UID:10000986-1754352000-1754438399@alexinlabs.com
SUMMARY:South Route
DESCRIPTION:
URL:https://alexinlabs.com/calendar/south-route/2025-08-05/
CATEGORIES:South Route
ORGANIZER;CN="Alexin Analytical Laboratories":MAILTO:mail@alexinlabs.com
END:VEVENT
BEGIN:VEVENT
DTSTART;VALUE=DATE:20250805
DTEND;VALUE=DATE:20250806
DTSTAMP:20260420T063210
CREATED:20250522T235238Z
LAST-MODIFIED:20250820T234350Z
UID:10000723-1754352000-1754438399@alexinlabs.com
SUMMARY:East Route
DESCRIPTION:
URL:https://alexinlabs.com/calendar/east-route/2025-08-05/
CATEGORIES:East Route
ORGANIZER;CN="Alexin Analytical Laboratories":MAILTO:mail@alexinlabs.com
END:VEVENT
BEGIN:VEVENT
DTSTART;VALUE=DATE:20250729
DTEND;VALUE=DATE:20250730
DTSTAMP:20260420T063210
CREATED:20250522T235359Z
LAST-MODIFIED:20250820T234046Z
UID:10000459-1753747200-1753833599@alexinlabs.com
SUMMARY:West Route
DESCRIPTION:
URL:https://alexinlabs.com/calendar/west-route/2025-07-29/
CATEGORIES:West Route
ORGANIZER;CN="Alexin Analytical Laboratories":MAILTO:mail@alexinlabs.com
END:VEVENT
BEGIN:VEVENT
DTSTART;VALUE=DATE:20250729
DTEND;VALUE=DATE:20250730
DTSTAMP:20260420T063210
CREATED:20250522T235317Z
LAST-MODIFIED:20250820T233751Z
UID:10000985-1753747200-1753833599@alexinlabs.com
SUMMARY:South Route
DESCRIPTION:
URL:https://alexinlabs.com/calendar/south-route/2025-07-29/
CATEGORIES:South Route
ORGANIZER;CN="Alexin Analytical Laboratories":MAILTO:mail@alexinlabs.com
END:VEVENT
BEGIN:VEVENT
DTSTART;VALUE=DATE:20250729
DTEND;VALUE=DATE:20250730
DTSTAMP:20260420T063210
CREATED:20250522T235238Z
LAST-MODIFIED:20250820T234350Z
UID:10000722-1753747200-1753833599@alexinlabs.com
SUMMARY:East Route
DESCRIPTION:
URL:https://alexinlabs.com/calendar/east-route/2025-07-29/
CATEGORIES:East Route
ORGANIZER;CN="Alexin Analytical Laboratories":MAILTO:mail@alexinlabs.com
END:VEVENT
BEGIN:VEVENT
DTSTART;VALUE=DATE:20250723
DTEND;VALUE=DATE:20250724
DTSTAMP:20260420T063210
CREATED:20250522T235428Z
LAST-MODIFIED:20250820T233608Z
UID:10000199-1753228800-1753315199@alexinlabs.com
SUMMARY:North Coast Route
DESCRIPTION:
URL:https://alexinlabs.com/calendar/north-coast-route/2025-07-23/
CATEGORIES:North Coast Route
ORGANIZER;CN="Alexin Analytical Laboratories":MAILTO:mail@alexinlabs.com
END:VEVENT
BEGIN:VEVENT
DTSTART;VALUE=DATE:20250722
DTEND;VALUE=DATE:20250723
DTSTAMP:20260420T063210
CREATED:20250522T235359Z
LAST-MODIFIED:20250820T234046Z
UID:10000458-1753142400-1753228799@alexinlabs.com
SUMMARY:West Route
DESCRIPTION:
URL:https://alexinlabs.com/calendar/west-route/2025-07-22/
CATEGORIES:West Route
ORGANIZER;CN="Alexin Analytical Laboratories":MAILTO:mail@alexinlabs.com
END:VEVENT
BEGIN:VEVENT
DTSTART;VALUE=DATE:20250722
DTEND;VALUE=DATE:20250723
DTSTAMP:20260420T063210
CREATED:20250522T235317Z
LAST-MODIFIED:20250820T233751Z
UID:10000984-1753142400-1753228799@alexinlabs.com
SUMMARY:South Route
DESCRIPTION:
URL:https://alexinlabs.com/calendar/south-route/2025-07-22/
CATEGORIES:South Route
ORGANIZER;CN="Alexin Analytical Laboratories":MAILTO:mail@alexinlabs.com
END:VEVENT
BEGIN:VEVENT
DTSTART;VALUE=DATE:20250722
DTEND;VALUE=DATE:20250723
DTSTAMP:20260420T063210
CREATED:20250522T235238Z
LAST-MODIFIED:20250820T234350Z
UID:10000721-1753142400-1753228799@alexinlabs.com
SUMMARY:East Route
DESCRIPTION:
URL:https://alexinlabs.com/calendar/east-route/2025-07-22/
CATEGORIES:East Route
ORGANIZER;CN="Alexin Analytical Laboratories":MAILTO:mail@alexinlabs.com
END:VEVENT
BEGIN:VEVENT
DTSTART;VALUE=DATE:20250716
DTEND;VALUE=DATE:20250717
DTSTAMP:20260420T063210
CREATED:20250605T214321Z
LAST-MODIFIED:20250820T233410Z
UID:10000129-1752624000-1752710399@alexinlabs.com
SUMMARY:South Coast Route
DESCRIPTION:
URL:https://alexinlabs.com/calendar/south-coast-route-2/2025-07-16/
CATEGORIES:South Coast Route
ORGANIZER;CN="Alexin Analytical Laboratories":MAILTO:mail@alexinlabs.com
END:VEVENT
BEGIN:VEVENT
DTSTART;VALUE=DATE:20250716
DTEND;VALUE=DATE:20250717
DTSTAMP:20260420T063210
CREATED:20250522T235428Z
LAST-MODIFIED:20250820T233608Z
UID:10000198-1752624000-1752710399@alexinlabs.com
SUMMARY:North Coast Route
DESCRIPTION:
URL:https://alexinlabs.com/calendar/north-coast-route/2025-07-16/
CATEGORIES:North Coast Route
ORGANIZER;CN="Alexin Analytical Laboratories":MAILTO:mail@alexinlabs.com
END:VEVENT
BEGIN:VEVENT
DTSTART;VALUE=DATE:20250715
DTEND;VALUE=DATE:20250716
DTSTAMP:20260420T063210
CREATED:20250522T235359Z
LAST-MODIFIED:20250820T234046Z
UID:10000457-1752537600-1752623999@alexinlabs.com
SUMMARY:West Route
DESCRIPTION:
URL:https://alexinlabs.com/calendar/west-route/2025-07-15/
CATEGORIES:West Route
ORGANIZER;CN="Alexin Analytical Laboratories":MAILTO:mail@alexinlabs.com
END:VEVENT
END:VCALENDAR