BEGIN:VCALENDAR
VERSION:2.0
PRODID:-//Alexin Analytical Laboratories | Tigard, OR - ECPv6.15.20//NONSGML v1.0//EN
CALSCALE:GREGORIAN
METHOD:PUBLISH
X-WR-CALNAME:Alexin Analytical Laboratories | Tigard, OR
X-ORIGINAL-URL:https://alexinlabs.com
X-WR-CALDESC:Events for Alexin Analytical Laboratories | Tigard, OR
REFRESH-INTERVAL;VALUE=DURATION:PT1H
X-Robots-Tag:noindex
X-PUBLISHED-TTL:PT1H
BEGIN:VTIMEZONE
TZID:America/Los_Angeles
BEGIN:DAYLIGHT
TZOFFSETFROM:-0800
TZOFFSETTO:-0700
TZNAME:PDT
DTSTART:20240310T100000
END:DAYLIGHT
BEGIN:STANDARD
TZOFFSETFROM:-0700
TZOFFSETTO:-0800
TZNAME:PST
DTSTART:20241103T090000
END:STANDARD
BEGIN:DAYLIGHT
TZOFFSETFROM:-0800
TZOFFSETTO:-0700
TZNAME:PDT
DTSTART:20250309T100000
END:DAYLIGHT
BEGIN:STANDARD
TZOFFSETFROM:-0700
TZOFFSETTO:-0800
TZNAME:PST
DTSTART:20251102T090000
END:STANDARD
BEGIN:DAYLIGHT
TZOFFSETFROM:-0800
TZOFFSETTO:-0700
TZNAME:PDT
DTSTART:20260308T100000
END:DAYLIGHT
BEGIN:STANDARD
TZOFFSETFROM:-0700
TZOFFSETTO:-0800
TZNAME:PST
DTSTART:20261101T090000
END:STANDARD
END:VTIMEZONE
BEGIN:VEVENT
DTSTART;VALUE=DATE:20250527
DTEND;VALUE=DATE:20250528
DTSTAMP:20260420T155457
CREATED:20250522T235359Z
LAST-MODIFIED:20250820T234046Z
UID:10000450-1748304000-1748390399@alexinlabs.com
SUMMARY:West Route
DESCRIPTION:
URL:https://alexinlabs.com/calendar/west-route/2025-05-27/
CATEGORIES:West Route
ORGANIZER;CN="Alexin Analytical Laboratories":MAILTO:mail@alexinlabs.com
END:VEVENT
BEGIN:VEVENT
DTSTART;VALUE=DATE:20250527
DTEND;VALUE=DATE:20250528
DTSTAMP:20260420T155457
CREATED:20250522T235317Z
LAST-MODIFIED:20250820T233751Z
UID:10000976-1748304000-1748390399@alexinlabs.com
SUMMARY:South Route
DESCRIPTION:
URL:https://alexinlabs.com/calendar/south-route/2025-05-27/
CATEGORIES:South Route
ORGANIZER;CN="Alexin Analytical Laboratories":MAILTO:mail@alexinlabs.com
END:VEVENT
BEGIN:VEVENT
DTSTART;VALUE=DATE:20250527
DTEND;VALUE=DATE:20250528
DTSTAMP:20260420T155457
CREATED:20250522T235238Z
LAST-MODIFIED:20250820T234350Z
UID:10000713-1748304000-1748390399@alexinlabs.com
SUMMARY:East Route
DESCRIPTION:
URL:https://alexinlabs.com/calendar/east-route/2025-05-27/
CATEGORIES:East Route
ORGANIZER;CN="Alexin Analytical Laboratories":MAILTO:mail@alexinlabs.com
END:VEVENT
BEGIN:VEVENT
DTSTART;VALUE=DATE:20250521
DTEND;VALUE=DATE:20250522
DTSTAMP:20260420T155457
CREATED:20250522T235428Z
LAST-MODIFIED:20250820T233608Z
UID:10000190-1747785600-1747871999@alexinlabs.com
SUMMARY:North Coast Route
DESCRIPTION:
URL:https://alexinlabs.com/calendar/north-coast-route/2025-05-21/
CATEGORIES:North Coast Route
ORGANIZER;CN="Alexin Analytical Laboratories":MAILTO:mail@alexinlabs.com
END:VEVENT
BEGIN:VEVENT
DTSTART;VALUE=DATE:20250514
DTEND;VALUE=DATE:20250515
DTSTAMP:20260420T155457
CREATED:20250522T235428Z
LAST-MODIFIED:20250820T233608Z
UID:10000189-1747180800-1747267199@alexinlabs.com
SUMMARY:North Coast Route
DESCRIPTION:
URL:https://alexinlabs.com/calendar/north-coast-route/2025-05-14/
CATEGORIES:North Coast Route
ORGANIZER;CN="Alexin Analytical Laboratories":MAILTO:mail@alexinlabs.com
END:VEVENT
BEGIN:VEVENT
DTSTART;VALUE=DATE:20250507
DTEND;VALUE=DATE:20250508
DTSTAMP:20260420T155457
CREATED:20250522T235428Z
LAST-MODIFIED:20250820T233608Z
UID:10000188-1746576000-1746662399@alexinlabs.com
SUMMARY:North Coast Route
DESCRIPTION:
URL:https://alexinlabs.com/calendar/north-coast-route/2025-05-07/
CATEGORIES:North Coast Route
ORGANIZER;CN="Alexin Analytical Laboratories":MAILTO:mail@alexinlabs.com
END:VEVENT
END:VCALENDAR