BEGIN:VCALENDAR
VERSION:2.0
PRODID:-//Alexin Analytical Laboratories | Tigard, OR - ECPv6.15.20//NONSGML v1.0//EN
CALSCALE:GREGORIAN
METHOD:PUBLISH
X-ORIGINAL-URL:https://alexinlabs.com
X-WR-CALDESC:Events for Alexin Analytical Laboratories | Tigard, OR
REFRESH-INTERVAL;VALUE=DURATION:PT1H
X-Robots-Tag:noindex
X-PUBLISHED-TTL:PT1H
BEGIN:VTIMEZONE
TZID:America/Los_Angeles
BEGIN:DAYLIGHT
TZOFFSETFROM:-0800
TZOFFSETTO:-0700
TZNAME:PDT
DTSTART:20240310T100000
END:DAYLIGHT
BEGIN:STANDARD
TZOFFSETFROM:-0700
TZOFFSETTO:-0800
TZNAME:PST
DTSTART:20241103T090000
END:STANDARD
BEGIN:DAYLIGHT
TZOFFSETFROM:-0800
TZOFFSETTO:-0700
TZNAME:PDT
DTSTART:20250309T100000
END:DAYLIGHT
BEGIN:STANDARD
TZOFFSETFROM:-0700
TZOFFSETTO:-0800
TZNAME:PST
DTSTART:20251102T090000
END:STANDARD
BEGIN:DAYLIGHT
TZOFFSETFROM:-0800
TZOFFSETTO:-0700
TZNAME:PDT
DTSTART:20260308T100000
END:DAYLIGHT
BEGIN:STANDARD
TZOFFSETFROM:-0700
TZOFFSETTO:-0800
TZNAME:PST
DTSTART:20261101T090000
END:STANDARD
BEGIN:DAYLIGHT
TZOFFSETFROM:-0800
TZOFFSETTO:-0700
TZNAME:PDT
DTSTART:20270314T100000
END:DAYLIGHT
BEGIN:STANDARD
TZOFFSETFROM:-0700
TZOFFSETTO:-0800
TZNAME:PST
DTSTART:20271107T090000
END:STANDARD
END:VTIMEZONE
BEGIN:VEVENT
DTSTART;VALUE=DATE:20260113
DTEND;VALUE=DATE:20260114
DTSTAMP:20260419T172758
CREATED:20250522T235359Z
LAST-MODIFIED:20250820T234046Z
UID:10000483-1768262400-1768348799@alexinlabs.com
SUMMARY:West Route
DESCRIPTION:
URL:https://alexinlabs.com/calendar/west-route/2026-01-13/
CATEGORIES:West Route
ORGANIZER;CN="Alexin Analytical Laboratories":MAILTO:mail@alexinlabs.com
END:VEVENT
BEGIN:VEVENT
DTSTART;VALUE=DATE:20260113
DTEND;VALUE=DATE:20260114
DTSTAMP:20260419T172758
CREATED:20250522T235317Z
LAST-MODIFIED:20250820T233751Z
UID:10001009-1768262400-1768348799@alexinlabs.com
SUMMARY:South Route
DESCRIPTION:
URL:https://alexinlabs.com/calendar/south-route/2026-01-13/
CATEGORIES:South Route
ORGANIZER;CN="Alexin Analytical Laboratories":MAILTO:mail@alexinlabs.com
END:VEVENT
BEGIN:VEVENT
DTSTART;VALUE=DATE:20260113
DTEND;VALUE=DATE:20260114
DTSTAMP:20260419T172758
CREATED:20250522T235238Z
LAST-MODIFIED:20250820T234350Z
UID:10000746-1768262400-1768348799@alexinlabs.com
SUMMARY:East Route
DESCRIPTION:
URL:https://alexinlabs.com/calendar/east-route/2026-01-13/
CATEGORIES:East Route
ORGANIZER;CN="Alexin Analytical Laboratories":MAILTO:mail@alexinlabs.com
END:VEVENT
BEGIN:VEVENT
DTSTART;VALUE=DATE:20260107
DTEND;VALUE=DATE:20260108
DTSTAMP:20260419T172758
CREATED:20250522T235453Z
LAST-MODIFIED:20250820T233030Z
UID:10000013-1767744000-1767830399@alexinlabs.com
SUMMARY:South Coast Route
DESCRIPTION:
URL:https://alexinlabs.com/calendar/south-coast-route/2026-01-07/
CATEGORIES:South Coast Route
ORGANIZER;CN="Alexin Analytical Laboratories":MAILTO:mail@alexinlabs.com
END:VEVENT
BEGIN:VEVENT
DTSTART;VALUE=DATE:20260107
DTEND;VALUE=DATE:20260108
DTSTAMP:20260419T172758
CREATED:20250522T235428Z
LAST-MODIFIED:20250820T233608Z
UID:10000220-1767744000-1767830399@alexinlabs.com
SUMMARY:North Coast Route
DESCRIPTION:
URL:https://alexinlabs.com/calendar/north-coast-route/2026-01-07/
CATEGORIES:North Coast Route
ORGANIZER;CN="Alexin Analytical Laboratories":MAILTO:mail@alexinlabs.com
END:VEVENT
BEGIN:VEVENT
DTSTART;VALUE=DATE:20260106
DTEND;VALUE=DATE:20260107
DTSTAMP:20260419T172758
CREATED:20250522T235359Z
LAST-MODIFIED:20250820T234046Z
UID:10000482-1767657600-1767743999@alexinlabs.com
SUMMARY:West Route
DESCRIPTION:
URL:https://alexinlabs.com/calendar/west-route/2026-01-06/
CATEGORIES:West Route
ORGANIZER;CN="Alexin Analytical Laboratories":MAILTO:mail@alexinlabs.com
END:VEVENT
BEGIN:VEVENT
DTSTART;VALUE=DATE:20260106
DTEND;VALUE=DATE:20260107
DTSTAMP:20260419T172758
CREATED:20250522T235317Z
LAST-MODIFIED:20250820T233751Z
UID:10001008-1767657600-1767743999@alexinlabs.com
SUMMARY:South Route
DESCRIPTION:
URL:https://alexinlabs.com/calendar/south-route/2026-01-06/
CATEGORIES:South Route
ORGANIZER;CN="Alexin Analytical Laboratories":MAILTO:mail@alexinlabs.com
END:VEVENT
BEGIN:VEVENT
DTSTART;VALUE=DATE:20260106
DTEND;VALUE=DATE:20260107
DTSTAMP:20260419T172758
CREATED:20250522T235238Z
LAST-MODIFIED:20250820T234350Z
UID:10000745-1767657600-1767743999@alexinlabs.com
SUMMARY:East Route
DESCRIPTION:
URL:https://alexinlabs.com/calendar/east-route/2026-01-06/
CATEGORIES:East Route
ORGANIZER;CN="Alexin Analytical Laboratories":MAILTO:mail@alexinlabs.com
END:VEVENT
BEGIN:VEVENT
DTSTART;VALUE=DATE:20251230
DTEND;VALUE=DATE:20251231
DTSTAMP:20260419T172758
CREATED:20250522T235359Z
LAST-MODIFIED:20250820T234046Z
UID:10000481-1767052800-1767139199@alexinlabs.com
SUMMARY:West Route
DESCRIPTION:
URL:https://alexinlabs.com/calendar/west-route/2025-12-30/
CATEGORIES:West Route
ORGANIZER;CN="Alexin Analytical Laboratories":MAILTO:mail@alexinlabs.com
END:VEVENT
BEGIN:VEVENT
DTSTART;VALUE=DATE:20251230
DTEND;VALUE=DATE:20251231
DTSTAMP:20260419T172758
CREATED:20250522T235317Z
LAST-MODIFIED:20250820T233751Z
UID:10001007-1767052800-1767139199@alexinlabs.com
SUMMARY:South Route
DESCRIPTION:
URL:https://alexinlabs.com/calendar/south-route/2025-12-30/
CATEGORIES:South Route
ORGANIZER;CN="Alexin Analytical Laboratories":MAILTO:mail@alexinlabs.com
END:VEVENT
BEGIN:VEVENT
DTSTART;VALUE=DATE:20251230
DTEND;VALUE=DATE:20251231
DTSTAMP:20260419T172758
CREATED:20250522T235238Z
LAST-MODIFIED:20250820T234350Z
UID:10000744-1767052800-1767139199@alexinlabs.com
SUMMARY:East Route
DESCRIPTION:
URL:https://alexinlabs.com/calendar/east-route/2025-12-30/
CATEGORIES:East Route
ORGANIZER;CN="Alexin Analytical Laboratories":MAILTO:mail@alexinlabs.com
END:VEVENT
BEGIN:VEVENT
DTSTART;VALUE=DATE:20251224
DTEND;VALUE=DATE:20251225
DTSTAMP:20260419T172758
CREATED:20250522T235428Z
LAST-MODIFIED:20250820T233608Z
UID:10000219-1766534400-1766620799@alexinlabs.com
SUMMARY:North Coast Route
DESCRIPTION:
URL:https://alexinlabs.com/calendar/north-coast-route/2025-12-24/
CATEGORIES:North Coast Route
ORGANIZER;CN="Alexin Analytical Laboratories":MAILTO:mail@alexinlabs.com
END:VEVENT
BEGIN:VEVENT
DTSTART;VALUE=DATE:20251223
DTEND;VALUE=DATE:20251224
DTSTAMP:20260419T172758
CREATED:20250522T235359Z
LAST-MODIFIED:20250820T234046Z
UID:10000480-1766448000-1766534399@alexinlabs.com
SUMMARY:West Route
DESCRIPTION:
URL:https://alexinlabs.com/calendar/west-route/2025-12-23/
CATEGORIES:West Route
ORGANIZER;CN="Alexin Analytical Laboratories":MAILTO:mail@alexinlabs.com
END:VEVENT
BEGIN:VEVENT
DTSTART;VALUE=DATE:20251223
DTEND;VALUE=DATE:20251224
DTSTAMP:20260419T172758
CREATED:20250522T235317Z
LAST-MODIFIED:20250820T233751Z
UID:10001006-1766448000-1766534399@alexinlabs.com
SUMMARY:South Route
DESCRIPTION:
URL:https://alexinlabs.com/calendar/south-route/2025-12-23/
CATEGORIES:South Route
ORGANIZER;CN="Alexin Analytical Laboratories":MAILTO:mail@alexinlabs.com
END:VEVENT
BEGIN:VEVENT
DTSTART;VALUE=DATE:20251223
DTEND;VALUE=DATE:20251224
DTSTAMP:20260419T172758
CREATED:20250522T235238Z
LAST-MODIFIED:20250820T234350Z
UID:10000743-1766448000-1766534399@alexinlabs.com
SUMMARY:East Route
DESCRIPTION:
URL:https://alexinlabs.com/calendar/east-route/2025-12-23/
CATEGORIES:East Route
ORGANIZER;CN="Alexin Analytical Laboratories":MAILTO:mail@alexinlabs.com
END:VEVENT
BEGIN:VEVENT
DTSTART;VALUE=DATE:20251217
DTEND;VALUE=DATE:20251218
DTSTAMP:20260419T172758
CREATED:20250605T214321Z
LAST-MODIFIED:20250820T233410Z
UID:10000134-1765929600-1766015999@alexinlabs.com
SUMMARY:South Coast Route
DESCRIPTION:
URL:https://alexinlabs.com/calendar/south-coast-route-2/2025-12-17/
CATEGORIES:South Coast Route
ORGANIZER;CN="Alexin Analytical Laboratories":MAILTO:mail@alexinlabs.com
END:VEVENT
BEGIN:VEVENT
DTSTART;VALUE=DATE:20251217
DTEND;VALUE=DATE:20251218
DTSTAMP:20260419T172758
CREATED:20250522T235428Z
LAST-MODIFIED:20250820T233608Z
UID:10000218-1765929600-1766015999@alexinlabs.com
SUMMARY:North Coast Route
DESCRIPTION:
URL:https://alexinlabs.com/calendar/north-coast-route/2025-12-17/
CATEGORIES:North Coast Route
ORGANIZER;CN="Alexin Analytical Laboratories":MAILTO:mail@alexinlabs.com
END:VEVENT
BEGIN:VEVENT
DTSTART;VALUE=DATE:20251216
DTEND;VALUE=DATE:20251217
DTSTAMP:20260419T172758
CREATED:20250522T235359Z
LAST-MODIFIED:20250820T234046Z
UID:10000479-1765843200-1765929599@alexinlabs.com
SUMMARY:West Route
DESCRIPTION:
URL:https://alexinlabs.com/calendar/west-route/2025-12-16/
CATEGORIES:West Route
ORGANIZER;CN="Alexin Analytical Laboratories":MAILTO:mail@alexinlabs.com
END:VEVENT
BEGIN:VEVENT
DTSTART;VALUE=DATE:20251216
DTEND;VALUE=DATE:20251217
DTSTAMP:20260419T172758
CREATED:20250522T235317Z
LAST-MODIFIED:20250820T233751Z
UID:10001005-1765843200-1765929599@alexinlabs.com
SUMMARY:South Route
DESCRIPTION:
URL:https://alexinlabs.com/calendar/south-route/2025-12-16/
CATEGORIES:South Route
ORGANIZER;CN="Alexin Analytical Laboratories":MAILTO:mail@alexinlabs.com
END:VEVENT
BEGIN:VEVENT
DTSTART;VALUE=DATE:20251216
DTEND;VALUE=DATE:20251217
DTSTAMP:20260419T172758
CREATED:20250522T235238Z
LAST-MODIFIED:20250820T234350Z
UID:10000742-1765843200-1765929599@alexinlabs.com
SUMMARY:East Route
DESCRIPTION:
URL:https://alexinlabs.com/calendar/east-route/2025-12-16/
CATEGORIES:East Route
ORGANIZER;CN="Alexin Analytical Laboratories":MAILTO:mail@alexinlabs.com
END:VEVENT
BEGIN:VEVENT
DTSTART;VALUE=DATE:20251210
DTEND;VALUE=DATE:20251211
DTSTAMP:20260419T172758
CREATED:20250522T235428Z
LAST-MODIFIED:20250820T233608Z
UID:10000217-1765324800-1765411199@alexinlabs.com
SUMMARY:North Coast Route
DESCRIPTION:
URL:https://alexinlabs.com/calendar/north-coast-route/2025-12-10/
CATEGORIES:North Coast Route
ORGANIZER;CN="Alexin Analytical Laboratories":MAILTO:mail@alexinlabs.com
END:VEVENT
BEGIN:VEVENT
DTSTART;VALUE=DATE:20251209
DTEND;VALUE=DATE:20251210
DTSTAMP:20260419T172758
CREATED:20250522T235359Z
LAST-MODIFIED:20250820T234046Z
UID:10000478-1765238400-1765324799@alexinlabs.com
SUMMARY:West Route
DESCRIPTION:
URL:https://alexinlabs.com/calendar/west-route/2025-12-09/
CATEGORIES:West Route
ORGANIZER;CN="Alexin Analytical Laboratories":MAILTO:mail@alexinlabs.com
END:VEVENT
BEGIN:VEVENT
DTSTART;VALUE=DATE:20251209
DTEND;VALUE=DATE:20251210
DTSTAMP:20260419T172758
CREATED:20250522T235317Z
LAST-MODIFIED:20250820T233751Z
UID:10001004-1765238400-1765324799@alexinlabs.com
SUMMARY:South Route
DESCRIPTION:
URL:https://alexinlabs.com/calendar/south-route/2025-12-09/
CATEGORIES:South Route
ORGANIZER;CN="Alexin Analytical Laboratories":MAILTO:mail@alexinlabs.com
END:VEVENT
BEGIN:VEVENT
DTSTART;VALUE=DATE:20251209
DTEND;VALUE=DATE:20251210
DTSTAMP:20260419T172758
CREATED:20250522T235238Z
LAST-MODIFIED:20250820T234350Z
UID:10000741-1765238400-1765324799@alexinlabs.com
SUMMARY:East Route
DESCRIPTION:
URL:https://alexinlabs.com/calendar/east-route/2025-12-09/
CATEGORIES:East Route
ORGANIZER;CN="Alexin Analytical Laboratories":MAILTO:mail@alexinlabs.com
END:VEVENT
BEGIN:VEVENT
DTSTART;VALUE=DATE:20251203
DTEND;VALUE=DATE:20251204
DTSTAMP:20260419T172758
CREATED:20250522T235453Z
LAST-MODIFIED:20250820T233030Z
UID:10000012-1764720000-1764806399@alexinlabs.com
SUMMARY:South Coast Route
DESCRIPTION:
URL:https://alexinlabs.com/calendar/south-coast-route/2025-12-03/
CATEGORIES:South Coast Route
ORGANIZER;CN="Alexin Analytical Laboratories":MAILTO:mail@alexinlabs.com
END:VEVENT
BEGIN:VEVENT
DTSTART;VALUE=DATE:20251203
DTEND;VALUE=DATE:20251204
DTSTAMP:20260419T172758
CREATED:20250522T235428Z
LAST-MODIFIED:20250820T233608Z
UID:10000216-1764720000-1764806399@alexinlabs.com
SUMMARY:North Coast Route
DESCRIPTION:
URL:https://alexinlabs.com/calendar/north-coast-route/2025-12-03/
CATEGORIES:North Coast Route
ORGANIZER;CN="Alexin Analytical Laboratories":MAILTO:mail@alexinlabs.com
END:VEVENT
BEGIN:VEVENT
DTSTART;VALUE=DATE:20251202
DTEND;VALUE=DATE:20251203
DTSTAMP:20260419T172758
CREATED:20250522T235359Z
LAST-MODIFIED:20250820T234046Z
UID:10000477-1764633600-1764719999@alexinlabs.com
SUMMARY:West Route
DESCRIPTION:
URL:https://alexinlabs.com/calendar/west-route/2025-12-02/
CATEGORIES:West Route
ORGANIZER;CN="Alexin Analytical Laboratories":MAILTO:mail@alexinlabs.com
END:VEVENT
BEGIN:VEVENT
DTSTART;VALUE=DATE:20251202
DTEND;VALUE=DATE:20251203
DTSTAMP:20260419T172758
CREATED:20250522T235317Z
LAST-MODIFIED:20250820T233751Z
UID:10001003-1764633600-1764719999@alexinlabs.com
SUMMARY:South Route
DESCRIPTION:
URL:https://alexinlabs.com/calendar/south-route/2025-12-02/
CATEGORIES:South Route
ORGANIZER;CN="Alexin Analytical Laboratories":MAILTO:mail@alexinlabs.com
END:VEVENT
BEGIN:VEVENT
DTSTART;VALUE=DATE:20251202
DTEND;VALUE=DATE:20251203
DTSTAMP:20260419T172758
CREATED:20250522T235238Z
LAST-MODIFIED:20250820T234350Z
UID:10000740-1764633600-1764719999@alexinlabs.com
SUMMARY:East Route
DESCRIPTION:
URL:https://alexinlabs.com/calendar/east-route/2025-12-02/
CATEGORIES:East Route
ORGANIZER;CN="Alexin Analytical Laboratories":MAILTO:mail@alexinlabs.com
END:VEVENT
BEGIN:VEVENT
DTSTART;VALUE=DATE:20251126
DTEND;VALUE=DATE:20251127
DTSTAMP:20260419T172758
CREATED:20250522T235428Z
LAST-MODIFIED:20250820T233608Z
UID:10000215-1764115200-1764201599@alexinlabs.com
SUMMARY:North Coast Route
DESCRIPTION:
URL:https://alexinlabs.com/calendar/north-coast-route/2025-11-26/
CATEGORIES:North Coast Route
ORGANIZER;CN="Alexin Analytical Laboratories":MAILTO:mail@alexinlabs.com
END:VEVENT
END:VCALENDAR