BEGIN:VCALENDAR
VERSION:2.0
PRODID:-//Alexin Analytical Laboratories | Tigard, OR - ECPv6.15.20//NONSGML v1.0//EN
CALSCALE:GREGORIAN
METHOD:PUBLISH
X-ORIGINAL-URL:https://alexinlabs.com
X-WR-CALDESC:Events for Alexin Analytical Laboratories | Tigard, OR
REFRESH-INTERVAL;VALUE=DURATION:PT1H
X-Robots-Tag:noindex
X-PUBLISHED-TTL:PT1H
BEGIN:VTIMEZONE
TZID:America/Los_Angeles
BEGIN:DAYLIGHT
TZOFFSETFROM:-0800
TZOFFSETTO:-0700
TZNAME:PDT
DTSTART:20280312T100000
END:DAYLIGHT
BEGIN:STANDARD
TZOFFSETFROM:-0700
TZOFFSETTO:-0800
TZNAME:PST
DTSTART:20281105T090000
END:STANDARD
BEGIN:DAYLIGHT
TZOFFSETFROM:-0800
TZOFFSETTO:-0700
TZNAME:PDT
DTSTART:20290311T100000
END:DAYLIGHT
BEGIN:STANDARD
TZOFFSETFROM:-0700
TZOFFSETTO:-0800
TZNAME:PST
DTSTART:20291104T090000
END:STANDARD
BEGIN:DAYLIGHT
TZOFFSETFROM:-0800
TZOFFSETTO:-0700
TZNAME:PDT
DTSTART:20300310T100000
END:DAYLIGHT
BEGIN:STANDARD
TZOFFSETFROM:-0700
TZOFFSETTO:-0800
TZNAME:PST
DTSTART:20301103T090000
END:STANDARD
END:VTIMEZONE
BEGIN:VEVENT
DTSTART;VALUE=DATE:20290508
DTEND;VALUE=DATE:20290509
DTSTAMP:20260420T064726
CREATED:20250522T235238Z
LAST-MODIFIED:20250820T234350Z
UID:10000919-1872892800-1872979199@alexinlabs.com
SUMMARY:East Route
DESCRIPTION:
URL:https://alexinlabs.com/calendar/east-route/2029-05-08/
CATEGORIES:East Route
ORGANIZER;CN="Alexin Analytical Laboratories":MAILTO:mail@alexinlabs.com
END:VEVENT
BEGIN:VEVENT
DTSTART;VALUE=DATE:20290508
DTEND;VALUE=DATE:20290509
DTSTAMP:20260420T064726
CREATED:20250522T235317Z
LAST-MODIFIED:20250820T233751Z
UID:10001182-1872892800-1872979199@alexinlabs.com
SUMMARY:South Route
DESCRIPTION:
URL:https://alexinlabs.com/calendar/south-route/2029-05-08/
CATEGORIES:South Route
ORGANIZER;CN="Alexin Analytical Laboratories":MAILTO:mail@alexinlabs.com
END:VEVENT
BEGIN:VEVENT
DTSTART;VALUE=DATE:20290508
DTEND;VALUE=DATE:20290509
DTSTAMP:20260420T064726
CREATED:20250522T235359Z
LAST-MODIFIED:20250820T234046Z
UID:10000656-1872892800-1872979199@alexinlabs.com
SUMMARY:West Route
DESCRIPTION:
URL:https://alexinlabs.com/calendar/west-route/2029-05-08/
CATEGORIES:West Route
ORGANIZER;CN="Alexin Analytical Laboratories":MAILTO:mail@alexinlabs.com
END:VEVENT
BEGIN:VEVENT
DTSTART;VALUE=DATE:20290509
DTEND;VALUE=DATE:20290510
DTSTAMP:20260420T064726
CREATED:20250522T235428Z
LAST-MODIFIED:20250820T233608Z
UID:10000393-1872979200-1873065599@alexinlabs.com
SUMMARY:North Coast Route
DESCRIPTION:
URL:https://alexinlabs.com/calendar/north-coast-route/2029-05-09/
CATEGORIES:North Coast Route
ORGANIZER;CN="Alexin Analytical Laboratories":MAILTO:mail@alexinlabs.com
END:VEVENT
BEGIN:VEVENT
DTSTART;VALUE=DATE:20290515
DTEND;VALUE=DATE:20290516
DTSTAMP:20260420T064726
CREATED:20250522T235238Z
LAST-MODIFIED:20250820T234350Z
UID:10000920-1873497600-1873583999@alexinlabs.com
SUMMARY:East Route
DESCRIPTION:
URL:https://alexinlabs.com/calendar/east-route/2029-05-15/
CATEGORIES:East Route
ORGANIZER;CN="Alexin Analytical Laboratories":MAILTO:mail@alexinlabs.com
END:VEVENT
BEGIN:VEVENT
DTSTART;VALUE=DATE:20290515
DTEND;VALUE=DATE:20290516
DTSTAMP:20260420T064726
CREATED:20250522T235317Z
LAST-MODIFIED:20250820T233751Z
UID:10001183-1873497600-1873583999@alexinlabs.com
SUMMARY:South Route
DESCRIPTION:
URL:https://alexinlabs.com/calendar/south-route/2029-05-15/
CATEGORIES:South Route
ORGANIZER;CN="Alexin Analytical Laboratories":MAILTO:mail@alexinlabs.com
END:VEVENT
BEGIN:VEVENT
DTSTART;VALUE=DATE:20290515
DTEND;VALUE=DATE:20290516
DTSTAMP:20260420T064726
CREATED:20250522T235359Z
LAST-MODIFIED:20250820T234046Z
UID:10000657-1873497600-1873583999@alexinlabs.com
SUMMARY:West Route
DESCRIPTION:
URL:https://alexinlabs.com/calendar/west-route/2029-05-15/
CATEGORIES:West Route
ORGANIZER;CN="Alexin Analytical Laboratories":MAILTO:mail@alexinlabs.com
END:VEVENT
BEGIN:VEVENT
DTSTART;VALUE=DATE:20290516
DTEND;VALUE=DATE:20290517
DTSTAMP:20260420T064726
CREATED:20250522T235428Z
LAST-MODIFIED:20250820T233608Z
UID:10000394-1873584000-1873670399@alexinlabs.com
SUMMARY:North Coast Route
DESCRIPTION:
URL:https://alexinlabs.com/calendar/north-coast-route/2029-05-16/
CATEGORIES:North Coast Route
ORGANIZER;CN="Alexin Analytical Laboratories":MAILTO:mail@alexinlabs.com
END:VEVENT
BEGIN:VEVENT
DTSTART;VALUE=DATE:20290516
DTEND;VALUE=DATE:20290517
DTSTAMP:20260420T064726
CREATED:20250605T214321Z
LAST-MODIFIED:20250820T233410Z
UID:10000175-1873584000-1873670399@alexinlabs.com
SUMMARY:South Coast Route
DESCRIPTION:
URL:https://alexinlabs.com/calendar/south-coast-route-2/2029-05-16/
CATEGORIES:South Coast Route
ORGANIZER;CN="Alexin Analytical Laboratories":MAILTO:mail@alexinlabs.com
END:VEVENT
BEGIN:VEVENT
DTSTART;VALUE=DATE:20290522
DTEND;VALUE=DATE:20290523
DTSTAMP:20260420T064726
CREATED:20250522T235238Z
LAST-MODIFIED:20250820T234350Z
UID:10000921-1874102400-1874188799@alexinlabs.com
SUMMARY:East Route
DESCRIPTION:
URL:https://alexinlabs.com/calendar/east-route/2029-05-22/
CATEGORIES:East Route
ORGANIZER;CN="Alexin Analytical Laboratories":MAILTO:mail@alexinlabs.com
END:VEVENT
BEGIN:VEVENT
DTSTART;VALUE=DATE:20290522
DTEND;VALUE=DATE:20290523
DTSTAMP:20260420T064726
CREATED:20250522T235317Z
LAST-MODIFIED:20250820T233751Z
UID:10001184-1874102400-1874188799@alexinlabs.com
SUMMARY:South Route
DESCRIPTION:
URL:https://alexinlabs.com/calendar/south-route/2029-05-22/
CATEGORIES:South Route
ORGANIZER;CN="Alexin Analytical Laboratories":MAILTO:mail@alexinlabs.com
END:VEVENT
BEGIN:VEVENT
DTSTART;VALUE=DATE:20290522
DTEND;VALUE=DATE:20290523
DTSTAMP:20260420T064726
CREATED:20250522T235359Z
LAST-MODIFIED:20250820T234046Z
UID:10000658-1874102400-1874188799@alexinlabs.com
SUMMARY:West Route
DESCRIPTION:
URL:https://alexinlabs.com/calendar/west-route/2029-05-22/
CATEGORIES:West Route
ORGANIZER;CN="Alexin Analytical Laboratories":MAILTO:mail@alexinlabs.com
END:VEVENT
BEGIN:VEVENT
DTSTART;VALUE=DATE:20290523
DTEND;VALUE=DATE:20290524
DTSTAMP:20260420T064726
CREATED:20250522T235428Z
LAST-MODIFIED:20250820T233608Z
UID:10000395-1874188800-1874275199@alexinlabs.com
SUMMARY:North Coast Route
DESCRIPTION:
URL:https://alexinlabs.com/calendar/north-coast-route/2029-05-23/
CATEGORIES:North Coast Route
ORGANIZER;CN="Alexin Analytical Laboratories":MAILTO:mail@alexinlabs.com
END:VEVENT
BEGIN:VEVENT
DTSTART;VALUE=DATE:20290529
DTEND;VALUE=DATE:20290530
DTSTAMP:20260420T064726
CREATED:20250522T235238Z
LAST-MODIFIED:20250820T234350Z
UID:10000922-1874707200-1874793599@alexinlabs.com
SUMMARY:East Route
DESCRIPTION:
URL:https://alexinlabs.com/calendar/east-route/2029-05-29/
CATEGORIES:East Route
ORGANIZER;CN="Alexin Analytical Laboratories":MAILTO:mail@alexinlabs.com
END:VEVENT
BEGIN:VEVENT
DTSTART;VALUE=DATE:20290529
DTEND;VALUE=DATE:20290530
DTSTAMP:20260420T064726
CREATED:20250522T235317Z
LAST-MODIFIED:20250820T233751Z
UID:10001185-1874707200-1874793599@alexinlabs.com
SUMMARY:South Route
DESCRIPTION:
URL:https://alexinlabs.com/calendar/south-route/2029-05-29/
CATEGORIES:South Route
ORGANIZER;CN="Alexin Analytical Laboratories":MAILTO:mail@alexinlabs.com
END:VEVENT
BEGIN:VEVENT
DTSTART;VALUE=DATE:20290529
DTEND;VALUE=DATE:20290530
DTSTAMP:20260420T064726
CREATED:20250522T235359Z
LAST-MODIFIED:20250820T234046Z
UID:10000659-1874707200-1874793599@alexinlabs.com
SUMMARY:West Route
DESCRIPTION:
URL:https://alexinlabs.com/calendar/west-route/2029-05-29/
CATEGORIES:West Route
ORGANIZER;CN="Alexin Analytical Laboratories":MAILTO:mail@alexinlabs.com
END:VEVENT
BEGIN:VEVENT
DTSTART;VALUE=DATE:20290530
DTEND;VALUE=DATE:20290531
DTSTAMP:20260420T064726
CREATED:20250522T235428Z
LAST-MODIFIED:20250820T233608Z
UID:10000396-1874793600-1874879999@alexinlabs.com
SUMMARY:North Coast Route
DESCRIPTION:
URL:https://alexinlabs.com/calendar/north-coast-route/2029-05-30/
CATEGORIES:North Coast Route
ORGANIZER;CN="Alexin Analytical Laboratories":MAILTO:mail@alexinlabs.com
END:VEVENT
BEGIN:VEVENT
DTSTART;VALUE=DATE:20290605
DTEND;VALUE=DATE:20290606
DTSTAMP:20260420T064726
CREATED:20250522T235238Z
LAST-MODIFIED:20250820T234350Z
UID:10000923-1875312000-1875398399@alexinlabs.com
SUMMARY:East Route
DESCRIPTION:
URL:https://alexinlabs.com/calendar/east-route/2029-06-05/
CATEGORIES:East Route
ORGANIZER;CN="Alexin Analytical Laboratories":MAILTO:mail@alexinlabs.com
END:VEVENT
BEGIN:VEVENT
DTSTART;VALUE=DATE:20290605
DTEND;VALUE=DATE:20290606
DTSTAMP:20260420T064726
CREATED:20250522T235317Z
LAST-MODIFIED:20250820T233751Z
UID:10001186-1875312000-1875398399@alexinlabs.com
SUMMARY:South Route
DESCRIPTION:
URL:https://alexinlabs.com/calendar/south-route/2029-06-05/
CATEGORIES:South Route
ORGANIZER;CN="Alexin Analytical Laboratories":MAILTO:mail@alexinlabs.com
END:VEVENT
BEGIN:VEVENT
DTSTART;VALUE=DATE:20290605
DTEND;VALUE=DATE:20290606
DTSTAMP:20260420T064726
CREATED:20250522T235359Z
LAST-MODIFIED:20250820T234046Z
UID:10000660-1875312000-1875398399@alexinlabs.com
SUMMARY:West Route
DESCRIPTION:
URL:https://alexinlabs.com/calendar/west-route/2029-06-05/
CATEGORIES:West Route
ORGANIZER;CN="Alexin Analytical Laboratories":MAILTO:mail@alexinlabs.com
END:VEVENT
BEGIN:VEVENT
DTSTART;VALUE=DATE:20290606
DTEND;VALUE=DATE:20290607
DTSTAMP:20260420T064726
CREATED:20250522T235428Z
LAST-MODIFIED:20250820T233608Z
UID:10000397-1875398400-1875484799@alexinlabs.com
SUMMARY:North Coast Route
DESCRIPTION:
URL:https://alexinlabs.com/calendar/north-coast-route/2029-06-06/
CATEGORIES:North Coast Route
ORGANIZER;CN="Alexin Analytical Laboratories":MAILTO:mail@alexinlabs.com
END:VEVENT
BEGIN:VEVENT
DTSTART;VALUE=DATE:20290606
DTEND;VALUE=DATE:20290607
DTSTAMP:20260420T064726
CREATED:20250522T235453Z
LAST-MODIFIED:20250820T233030Z
UID:10000054-1875398400-1875484799@alexinlabs.com
SUMMARY:South Coast Route
DESCRIPTION:
URL:https://alexinlabs.com/calendar/south-coast-route/2029-06-06/
CATEGORIES:South Coast Route
ORGANIZER;CN="Alexin Analytical Laboratories":MAILTO:mail@alexinlabs.com
END:VEVENT
BEGIN:VEVENT
DTSTART;VALUE=DATE:20290612
DTEND;VALUE=DATE:20290613
DTSTAMP:20260420T064726
CREATED:20250522T235238Z
LAST-MODIFIED:20250820T234350Z
UID:10000924-1875916800-1876003199@alexinlabs.com
SUMMARY:East Route
DESCRIPTION:
URL:https://alexinlabs.com/calendar/east-route/2029-06-12/
CATEGORIES:East Route
ORGANIZER;CN="Alexin Analytical Laboratories":MAILTO:mail@alexinlabs.com
END:VEVENT
BEGIN:VEVENT
DTSTART;VALUE=DATE:20290612
DTEND;VALUE=DATE:20290613
DTSTAMP:20260420T064726
CREATED:20250522T235317Z
LAST-MODIFIED:20250820T233751Z
UID:10001187-1875916800-1876003199@alexinlabs.com
SUMMARY:South Route
DESCRIPTION:
URL:https://alexinlabs.com/calendar/south-route/2029-06-12/
CATEGORIES:South Route
ORGANIZER;CN="Alexin Analytical Laboratories":MAILTO:mail@alexinlabs.com
END:VEVENT
BEGIN:VEVENT
DTSTART;VALUE=DATE:20290612
DTEND;VALUE=DATE:20290613
DTSTAMP:20260420T064726
CREATED:20250522T235359Z
LAST-MODIFIED:20250820T234046Z
UID:10000661-1875916800-1876003199@alexinlabs.com
SUMMARY:West Route
DESCRIPTION:
URL:https://alexinlabs.com/calendar/west-route/2029-06-12/
CATEGORIES:West Route
ORGANIZER;CN="Alexin Analytical Laboratories":MAILTO:mail@alexinlabs.com
END:VEVENT
BEGIN:VEVENT
DTSTART;VALUE=DATE:20290613
DTEND;VALUE=DATE:20290614
DTSTAMP:20260420T064726
CREATED:20250522T235428Z
LAST-MODIFIED:20250820T233608Z
UID:10000398-1876003200-1876089599@alexinlabs.com
SUMMARY:North Coast Route
DESCRIPTION:
URL:https://alexinlabs.com/calendar/north-coast-route/2029-06-13/
CATEGORIES:North Coast Route
ORGANIZER;CN="Alexin Analytical Laboratories":MAILTO:mail@alexinlabs.com
END:VEVENT
BEGIN:VEVENT
DTSTART;VALUE=DATE:20290619
DTEND;VALUE=DATE:20290620
DTSTAMP:20260420T064726
CREATED:20250522T235238Z
LAST-MODIFIED:20250820T234350Z
UID:10000925-1876521600-1876607999@alexinlabs.com
SUMMARY:East Route
DESCRIPTION:
URL:https://alexinlabs.com/calendar/east-route/2029-06-19/
CATEGORIES:East Route
ORGANIZER;CN="Alexin Analytical Laboratories":MAILTO:mail@alexinlabs.com
END:VEVENT
BEGIN:VEVENT
DTSTART;VALUE=DATE:20290619
DTEND;VALUE=DATE:20290620
DTSTAMP:20260420T064726
CREATED:20250522T235317Z
LAST-MODIFIED:20250820T233751Z
UID:10001188-1876521600-1876607999@alexinlabs.com
SUMMARY:South Route
DESCRIPTION:
URL:https://alexinlabs.com/calendar/south-route/2029-06-19/
CATEGORIES:South Route
ORGANIZER;CN="Alexin Analytical Laboratories":MAILTO:mail@alexinlabs.com
END:VEVENT
BEGIN:VEVENT
DTSTART;VALUE=DATE:20290619
DTEND;VALUE=DATE:20290620
DTSTAMP:20260420T064726
CREATED:20250522T235359Z
LAST-MODIFIED:20250820T234046Z
UID:10000662-1876521600-1876607999@alexinlabs.com
SUMMARY:West Route
DESCRIPTION:
URL:https://alexinlabs.com/calendar/west-route/2029-06-19/
CATEGORIES:West Route
ORGANIZER;CN="Alexin Analytical Laboratories":MAILTO:mail@alexinlabs.com
END:VEVENT
BEGIN:VEVENT
DTSTART;VALUE=DATE:20290620
DTEND;VALUE=DATE:20290621
DTSTAMP:20260420T064726
CREATED:20250522T235428Z
LAST-MODIFIED:20250820T233608Z
UID:10000399-1876608000-1876694399@alexinlabs.com
SUMMARY:North Coast Route
DESCRIPTION:
URL:https://alexinlabs.com/calendar/north-coast-route/2029-06-20/
CATEGORIES:North Coast Route
ORGANIZER;CN="Alexin Analytical Laboratories":MAILTO:mail@alexinlabs.com
END:VEVENT
END:VCALENDAR