BEGIN:VCALENDAR
VERSION:2.0
PRODID:-//Alexin Analytical Laboratories | Tigard, OR - ECPv6.15.20//NONSGML v1.0//EN
CALSCALE:GREGORIAN
METHOD:PUBLISH
X-ORIGINAL-URL:https://alexinlabs.com
X-WR-CALDESC:Events for Alexin Analytical Laboratories | Tigard, OR
REFRESH-INTERVAL;VALUE=DURATION:PT1H
X-Robots-Tag:noindex
X-PUBLISHED-TTL:PT1H
BEGIN:VTIMEZONE
TZID:America/Los_Angeles
BEGIN:DAYLIGHT
TZOFFSETFROM:-0800
TZOFFSETTO:-0700
TZNAME:PDT
DTSTART:20280312T100000
END:DAYLIGHT
BEGIN:STANDARD
TZOFFSETFROM:-0700
TZOFFSETTO:-0800
TZNAME:PST
DTSTART:20281105T090000
END:STANDARD
BEGIN:DAYLIGHT
TZOFFSETFROM:-0800
TZOFFSETTO:-0700
TZNAME:PDT
DTSTART:20290311T100000
END:DAYLIGHT
BEGIN:STANDARD
TZOFFSETFROM:-0700
TZOFFSETTO:-0800
TZNAME:PST
DTSTART:20291104T090000
END:STANDARD
BEGIN:DAYLIGHT
TZOFFSETFROM:-0800
TZOFFSETTO:-0700
TZNAME:PDT
DTSTART:20300310T100000
END:DAYLIGHT
BEGIN:STANDARD
TZOFFSETFROM:-0700
TZOFFSETTO:-0800
TZNAME:PST
DTSTART:20301103T090000
END:STANDARD
END:VTIMEZONE
BEGIN:VEVENT
DTSTART;VALUE=DATE:20290918
DTEND;VALUE=DATE:20290919
DTSTAMP:20260420T194208
CREATED:20250522T235238Z
LAST-MODIFIED:20250820T234350Z
UID:10000938-1884384000-1884470399@alexinlabs.com
SUMMARY:East Route
DESCRIPTION:
URL:https://alexinlabs.com/calendar/east-route/2029-09-18/
CATEGORIES:East Route
ORGANIZER;CN="Alexin Analytical Laboratories":MAILTO:mail@alexinlabs.com
END:VEVENT
BEGIN:VEVENT
DTSTART;VALUE=DATE:20290918
DTEND;VALUE=DATE:20290919
DTSTAMP:20260420T194208
CREATED:20250522T235317Z
LAST-MODIFIED:20250820T233751Z
UID:10001201-1884384000-1884470399@alexinlabs.com
SUMMARY:South Route
DESCRIPTION:
URL:https://alexinlabs.com/calendar/south-route/2029-09-18/
CATEGORIES:South Route
ORGANIZER;CN="Alexin Analytical Laboratories":MAILTO:mail@alexinlabs.com
END:VEVENT
BEGIN:VEVENT
DTSTART;VALUE=DATE:20290918
DTEND;VALUE=DATE:20290919
DTSTAMP:20260420T194208
CREATED:20250522T235359Z
LAST-MODIFIED:20250820T234046Z
UID:10000675-1884384000-1884470399@alexinlabs.com
SUMMARY:West Route
DESCRIPTION:
URL:https://alexinlabs.com/calendar/west-route/2029-09-18/
CATEGORIES:West Route
ORGANIZER;CN="Alexin Analytical Laboratories":MAILTO:mail@alexinlabs.com
END:VEVENT
BEGIN:VEVENT
DTSTART;VALUE=DATE:20290919
DTEND;VALUE=DATE:20290920
DTSTAMP:20260420T194208
CREATED:20250522T235428Z
LAST-MODIFIED:20250820T233608Z
UID:10000412-1884470400-1884556799@alexinlabs.com
SUMMARY:North Coast Route
DESCRIPTION:
URL:https://alexinlabs.com/calendar/north-coast-route/2029-09-19/
CATEGORIES:North Coast Route
ORGANIZER;CN="Alexin Analytical Laboratories":MAILTO:mail@alexinlabs.com
END:VEVENT
BEGIN:VEVENT
DTSTART;VALUE=DATE:20290919
DTEND;VALUE=DATE:20290920
DTSTAMP:20260420T194208
CREATED:20250605T214321Z
LAST-MODIFIED:20250820T233410Z
UID:10000179-1884470400-1884556799@alexinlabs.com
SUMMARY:South Coast Route
DESCRIPTION:
URL:https://alexinlabs.com/calendar/south-coast-route-2/2029-09-19/
CATEGORIES:South Coast Route
ORGANIZER;CN="Alexin Analytical Laboratories":MAILTO:mail@alexinlabs.com
END:VEVENT
BEGIN:VEVENT
DTSTART;VALUE=DATE:20290925
DTEND;VALUE=DATE:20290926
DTSTAMP:20260420T194208
CREATED:20250522T235238Z
LAST-MODIFIED:20250820T234350Z
UID:10000939-1884988800-1885075199@alexinlabs.com
SUMMARY:East Route
DESCRIPTION:
URL:https://alexinlabs.com/calendar/east-route/2029-09-25/
CATEGORIES:East Route
ORGANIZER;CN="Alexin Analytical Laboratories":MAILTO:mail@alexinlabs.com
END:VEVENT
BEGIN:VEVENT
DTSTART;VALUE=DATE:20290925
DTEND;VALUE=DATE:20290926
DTSTAMP:20260420T194208
CREATED:20250522T235317Z
LAST-MODIFIED:20250820T233751Z
UID:10001202-1884988800-1885075199@alexinlabs.com
SUMMARY:South Route
DESCRIPTION:
URL:https://alexinlabs.com/calendar/south-route/2029-09-25/
CATEGORIES:South Route
ORGANIZER;CN="Alexin Analytical Laboratories":MAILTO:mail@alexinlabs.com
END:VEVENT
BEGIN:VEVENT
DTSTART;VALUE=DATE:20290925
DTEND;VALUE=DATE:20290926
DTSTAMP:20260420T194208
CREATED:20250522T235359Z
LAST-MODIFIED:20250820T234046Z
UID:10000676-1884988800-1885075199@alexinlabs.com
SUMMARY:West Route
DESCRIPTION:
URL:https://alexinlabs.com/calendar/west-route/2029-09-25/
CATEGORIES:West Route
ORGANIZER;CN="Alexin Analytical Laboratories":MAILTO:mail@alexinlabs.com
END:VEVENT
BEGIN:VEVENT
DTSTART;VALUE=DATE:20290926
DTEND;VALUE=DATE:20290927
DTSTAMP:20260420T194208
CREATED:20250522T235428Z
LAST-MODIFIED:20250820T233608Z
UID:10000413-1885075200-1885161599@alexinlabs.com
SUMMARY:North Coast Route
DESCRIPTION:
URL:https://alexinlabs.com/calendar/north-coast-route/2029-09-26/
CATEGORIES:North Coast Route
ORGANIZER;CN="Alexin Analytical Laboratories":MAILTO:mail@alexinlabs.com
END:VEVENT
BEGIN:VEVENT
DTSTART;VALUE=DATE:20291002
DTEND;VALUE=DATE:20291003
DTSTAMP:20260420T194208
CREATED:20250522T235238Z
LAST-MODIFIED:20250820T234350Z
UID:10000940-1885593600-1885679999@alexinlabs.com
SUMMARY:East Route
DESCRIPTION:
URL:https://alexinlabs.com/calendar/east-route/2029-10-02/
CATEGORIES:East Route
ORGANIZER;CN="Alexin Analytical Laboratories":MAILTO:mail@alexinlabs.com
END:VEVENT
BEGIN:VEVENT
DTSTART;VALUE=DATE:20291002
DTEND;VALUE=DATE:20291003
DTSTAMP:20260420T194208
CREATED:20250522T235317Z
LAST-MODIFIED:20250820T233751Z
UID:10001203-1885593600-1885679999@alexinlabs.com
SUMMARY:South Route
DESCRIPTION:
URL:https://alexinlabs.com/calendar/south-route/2029-10-02/
CATEGORIES:South Route
ORGANIZER;CN="Alexin Analytical Laboratories":MAILTO:mail@alexinlabs.com
END:VEVENT
BEGIN:VEVENT
DTSTART;VALUE=DATE:20291002
DTEND;VALUE=DATE:20291003
DTSTAMP:20260420T194208
CREATED:20250522T235359Z
LAST-MODIFIED:20250820T234046Z
UID:10000677-1885593600-1885679999@alexinlabs.com
SUMMARY:West Route
DESCRIPTION:
URL:https://alexinlabs.com/calendar/west-route/2029-10-02/
CATEGORIES:West Route
ORGANIZER;CN="Alexin Analytical Laboratories":MAILTO:mail@alexinlabs.com
END:VEVENT
BEGIN:VEVENT
DTSTART;VALUE=DATE:20291003
DTEND;VALUE=DATE:20291004
DTSTAMP:20260420T194208
CREATED:20250522T235428Z
LAST-MODIFIED:20250820T233608Z
UID:10000414-1885680000-1885766399@alexinlabs.com
SUMMARY:North Coast Route
DESCRIPTION:
URL:https://alexinlabs.com/calendar/north-coast-route/2029-10-03/
CATEGORIES:North Coast Route
ORGANIZER;CN="Alexin Analytical Laboratories":MAILTO:mail@alexinlabs.com
END:VEVENT
BEGIN:VEVENT
DTSTART;VALUE=DATE:20291003
DTEND;VALUE=DATE:20291004
DTSTAMP:20260420T194208
CREATED:20250522T235453Z
LAST-MODIFIED:20250820T233030Z
UID:10000058-1885680000-1885766399@alexinlabs.com
SUMMARY:South Coast Route
DESCRIPTION:
URL:https://alexinlabs.com/calendar/south-coast-route/2029-10-03/
CATEGORIES:South Coast Route
ORGANIZER;CN="Alexin Analytical Laboratories":MAILTO:mail@alexinlabs.com
END:VEVENT
BEGIN:VEVENT
DTSTART;VALUE=DATE:20291009
DTEND;VALUE=DATE:20291010
DTSTAMP:20260420T194208
CREATED:20250522T235238Z
LAST-MODIFIED:20250820T234350Z
UID:10000941-1886198400-1886284799@alexinlabs.com
SUMMARY:East Route
DESCRIPTION:
URL:https://alexinlabs.com/calendar/east-route/2029-10-09/
CATEGORIES:East Route
ORGANIZER;CN="Alexin Analytical Laboratories":MAILTO:mail@alexinlabs.com
END:VEVENT
BEGIN:VEVENT
DTSTART;VALUE=DATE:20291009
DTEND;VALUE=DATE:20291010
DTSTAMP:20260420T194208
CREATED:20250522T235317Z
LAST-MODIFIED:20250820T233751Z
UID:10001204-1886198400-1886284799@alexinlabs.com
SUMMARY:South Route
DESCRIPTION:
URL:https://alexinlabs.com/calendar/south-route/2029-10-09/
CATEGORIES:South Route
ORGANIZER;CN="Alexin Analytical Laboratories":MAILTO:mail@alexinlabs.com
END:VEVENT
BEGIN:VEVENT
DTSTART;VALUE=DATE:20291009
DTEND;VALUE=DATE:20291010
DTSTAMP:20260420T194208
CREATED:20250522T235359Z
LAST-MODIFIED:20250820T234046Z
UID:10000678-1886198400-1886284799@alexinlabs.com
SUMMARY:West Route
DESCRIPTION:
URL:https://alexinlabs.com/calendar/west-route/2029-10-09/
CATEGORIES:West Route
ORGANIZER;CN="Alexin Analytical Laboratories":MAILTO:mail@alexinlabs.com
END:VEVENT
BEGIN:VEVENT
DTSTART;VALUE=DATE:20291010
DTEND;VALUE=DATE:20291011
DTSTAMP:20260420T194208
CREATED:20250522T235428Z
LAST-MODIFIED:20250820T233608Z
UID:10000415-1886284800-1886371199@alexinlabs.com
SUMMARY:North Coast Route
DESCRIPTION:
URL:https://alexinlabs.com/calendar/north-coast-route/2029-10-10/
CATEGORIES:North Coast Route
ORGANIZER;CN="Alexin Analytical Laboratories":MAILTO:mail@alexinlabs.com
END:VEVENT
BEGIN:VEVENT
DTSTART;VALUE=DATE:20291016
DTEND;VALUE=DATE:20291017
DTSTAMP:20260420T194208
CREATED:20250522T235238Z
LAST-MODIFIED:20250820T234350Z
UID:10000942-1886803200-1886889599@alexinlabs.com
SUMMARY:East Route
DESCRIPTION:
URL:https://alexinlabs.com/calendar/east-route/2029-10-16/
CATEGORIES:East Route
ORGANIZER;CN="Alexin Analytical Laboratories":MAILTO:mail@alexinlabs.com
END:VEVENT
BEGIN:VEVENT
DTSTART;VALUE=DATE:20291016
DTEND;VALUE=DATE:20291017
DTSTAMP:20260420T194208
CREATED:20250522T235317Z
LAST-MODIFIED:20250820T233751Z
UID:10001205-1886803200-1886889599@alexinlabs.com
SUMMARY:South Route
DESCRIPTION:
URL:https://alexinlabs.com/calendar/south-route/2029-10-16/
CATEGORIES:South Route
ORGANIZER;CN="Alexin Analytical Laboratories":MAILTO:mail@alexinlabs.com
END:VEVENT
BEGIN:VEVENT
DTSTART;VALUE=DATE:20291016
DTEND;VALUE=DATE:20291017
DTSTAMP:20260420T194208
CREATED:20250522T235359Z
LAST-MODIFIED:20250820T234046Z
UID:10000679-1886803200-1886889599@alexinlabs.com
SUMMARY:West Route
DESCRIPTION:
URL:https://alexinlabs.com/calendar/west-route/2029-10-16/
CATEGORIES:West Route
ORGANIZER;CN="Alexin Analytical Laboratories":MAILTO:mail@alexinlabs.com
END:VEVENT
BEGIN:VEVENT
DTSTART;VALUE=DATE:20291017
DTEND;VALUE=DATE:20291018
DTSTAMP:20260420T194208
CREATED:20250522T235428Z
LAST-MODIFIED:20250820T233608Z
UID:10000416-1886889600-1886975999@alexinlabs.com
SUMMARY:North Coast Route
DESCRIPTION:
URL:https://alexinlabs.com/calendar/north-coast-route/2029-10-17/
CATEGORIES:North Coast Route
ORGANIZER;CN="Alexin Analytical Laboratories":MAILTO:mail@alexinlabs.com
END:VEVENT
BEGIN:VEVENT
DTSTART;VALUE=DATE:20291017
DTEND;VALUE=DATE:20291018
DTSTAMP:20260420T194208
CREATED:20250605T214321Z
LAST-MODIFIED:20250820T233410Z
UID:10000180-1886889600-1886975999@alexinlabs.com
SUMMARY:South Coast Route
DESCRIPTION:
URL:https://alexinlabs.com/calendar/south-coast-route-2/2029-10-17/
CATEGORIES:South Coast Route
ORGANIZER;CN="Alexin Analytical Laboratories":MAILTO:mail@alexinlabs.com
END:VEVENT
BEGIN:VEVENT
DTSTART;VALUE=DATE:20291023
DTEND;VALUE=DATE:20291024
DTSTAMP:20260420T194208
CREATED:20250522T235238Z
LAST-MODIFIED:20250820T234350Z
UID:10000943-1887408000-1887494399@alexinlabs.com
SUMMARY:East Route
DESCRIPTION:
URL:https://alexinlabs.com/calendar/east-route/2029-10-23/
CATEGORIES:East Route
ORGANIZER;CN="Alexin Analytical Laboratories":MAILTO:mail@alexinlabs.com
END:VEVENT
BEGIN:VEVENT
DTSTART;VALUE=DATE:20291023
DTEND;VALUE=DATE:20291024
DTSTAMP:20260420T194208
CREATED:20250522T235317Z
LAST-MODIFIED:20250820T233751Z
UID:10001206-1887408000-1887494399@alexinlabs.com
SUMMARY:South Route
DESCRIPTION:
URL:https://alexinlabs.com/calendar/south-route/2029-10-23/
CATEGORIES:South Route
ORGANIZER;CN="Alexin Analytical Laboratories":MAILTO:mail@alexinlabs.com
END:VEVENT
BEGIN:VEVENT
DTSTART;VALUE=DATE:20291023
DTEND;VALUE=DATE:20291024
DTSTAMP:20260420T194208
CREATED:20250522T235359Z
LAST-MODIFIED:20250820T234046Z
UID:10000680-1887408000-1887494399@alexinlabs.com
SUMMARY:West Route
DESCRIPTION:
URL:https://alexinlabs.com/calendar/west-route/2029-10-23/
CATEGORIES:West Route
ORGANIZER;CN="Alexin Analytical Laboratories":MAILTO:mail@alexinlabs.com
END:VEVENT
BEGIN:VEVENT
DTSTART;VALUE=DATE:20291024
DTEND;VALUE=DATE:20291025
DTSTAMP:20260420T194208
CREATED:20250522T235428Z
LAST-MODIFIED:20250820T233608Z
UID:10000417-1887494400-1887580799@alexinlabs.com
SUMMARY:North Coast Route
DESCRIPTION:
URL:https://alexinlabs.com/calendar/north-coast-route/2029-10-24/
CATEGORIES:North Coast Route
ORGANIZER;CN="Alexin Analytical Laboratories":MAILTO:mail@alexinlabs.com
END:VEVENT
BEGIN:VEVENT
DTSTART;VALUE=DATE:20291030
DTEND;VALUE=DATE:20291031
DTSTAMP:20260420T194208
CREATED:20250522T235238Z
LAST-MODIFIED:20250820T234350Z
UID:10000944-1888012800-1888099199@alexinlabs.com
SUMMARY:East Route
DESCRIPTION:
URL:https://alexinlabs.com/calendar/east-route/2029-10-30/
CATEGORIES:East Route
ORGANIZER;CN="Alexin Analytical Laboratories":MAILTO:mail@alexinlabs.com
END:VEVENT
BEGIN:VEVENT
DTSTART;VALUE=DATE:20291030
DTEND;VALUE=DATE:20291031
DTSTAMP:20260420T194208
CREATED:20250522T235317Z
LAST-MODIFIED:20250820T233751Z
UID:10001207-1888012800-1888099199@alexinlabs.com
SUMMARY:South Route
DESCRIPTION:
URL:https://alexinlabs.com/calendar/south-route/2029-10-30/
CATEGORIES:South Route
ORGANIZER;CN="Alexin Analytical Laboratories":MAILTO:mail@alexinlabs.com
END:VEVENT
BEGIN:VEVENT
DTSTART;VALUE=DATE:20291030
DTEND;VALUE=DATE:20291031
DTSTAMP:20260420T194208
CREATED:20250522T235359Z
LAST-MODIFIED:20250820T234046Z
UID:10000681-1888012800-1888099199@alexinlabs.com
SUMMARY:West Route
DESCRIPTION:
URL:https://alexinlabs.com/calendar/west-route/2029-10-30/
CATEGORIES:West Route
ORGANIZER;CN="Alexin Analytical Laboratories":MAILTO:mail@alexinlabs.com
END:VEVENT
END:VCALENDAR