BEGIN:VCALENDAR
VERSION:2.0
PRODID:-//Alexin Analytical Laboratories | Tigard, OR - ECPv6.15.20//NONSGML v1.0//EN
CALSCALE:GREGORIAN
METHOD:PUBLISH
X-WR-CALNAME:Alexin Analytical Laboratories | Tigard, OR
X-ORIGINAL-URL:https://alexinlabs.com
X-WR-CALDESC:Events for Alexin Analytical Laboratories | Tigard, OR
REFRESH-INTERVAL;VALUE=DURATION:PT1H
X-Robots-Tag:noindex
X-PUBLISHED-TTL:PT1H
BEGIN:VTIMEZONE
TZID:America/Los_Angeles
BEGIN:DAYLIGHT
TZOFFSETFROM:-0800
TZOFFSETTO:-0700
TZNAME:PDT
DTSTART:20240310T100000
END:DAYLIGHT
BEGIN:STANDARD
TZOFFSETFROM:-0700
TZOFFSETTO:-0800
TZNAME:PST
DTSTART:20241103T090000
END:STANDARD
BEGIN:DAYLIGHT
TZOFFSETFROM:-0800
TZOFFSETTO:-0700
TZNAME:PDT
DTSTART:20250309T100000
END:DAYLIGHT
BEGIN:STANDARD
TZOFFSETFROM:-0700
TZOFFSETTO:-0800
TZNAME:PST
DTSTART:20251102T090000
END:STANDARD
BEGIN:DAYLIGHT
TZOFFSETFROM:-0800
TZOFFSETTO:-0700
TZNAME:PDT
DTSTART:20260308T100000
END:DAYLIGHT
BEGIN:STANDARD
TZOFFSETFROM:-0700
TZOFFSETTO:-0800
TZNAME:PST
DTSTART:20261101T090000
END:STANDARD
END:VTIMEZONE
BEGIN:VEVENT
DTSTART;VALUE=DATE:20251118
DTEND;VALUE=DATE:20251119
DTSTAMP:20260419T232839
CREATED:20250522T235317Z
LAST-MODIFIED:20250820T233751Z
UID:10001001-1763424000-1763510399@alexinlabs.com
SUMMARY:South Route
DESCRIPTION:
URL:https://alexinlabs.com/calendar/south-route/2025-11-18/
CATEGORIES:South Route
ORGANIZER;CN="Alexin Analytical Laboratories":MAILTO:mail@alexinlabs.com
END:VEVENT
BEGIN:VEVENT
DTSTART;VALUE=DATE:20251118
DTEND;VALUE=DATE:20251119
DTSTAMP:20260419T232839
CREATED:20250522T235238Z
LAST-MODIFIED:20250820T234350Z
UID:10000738-1763424000-1763510399@alexinlabs.com
SUMMARY:East Route
DESCRIPTION:
URL:https://alexinlabs.com/calendar/east-route/2025-11-18/
CATEGORIES:East Route
ORGANIZER;CN="Alexin Analytical Laboratories":MAILTO:mail@alexinlabs.com
END:VEVENT
BEGIN:VEVENT
DTSTART;VALUE=DATE:20251112
DTEND;VALUE=DATE:20251113
DTSTAMP:20260419T232839
CREATED:20250522T235428Z
LAST-MODIFIED:20250820T233608Z
UID:10000213-1762905600-1762991999@alexinlabs.com
SUMMARY:North Coast Route
DESCRIPTION:
URL:https://alexinlabs.com/calendar/north-coast-route/2025-11-12/
CATEGORIES:North Coast Route
ORGANIZER;CN="Alexin Analytical Laboratories":MAILTO:mail@alexinlabs.com
END:VEVENT
BEGIN:VEVENT
DTSTART;VALUE=DATE:20251111
DTEND;VALUE=DATE:20251112
DTSTAMP:20260419T232839
CREATED:20250522T235359Z
LAST-MODIFIED:20250820T234046Z
UID:10000474-1762819200-1762905599@alexinlabs.com
SUMMARY:West Route
DESCRIPTION:
URL:https://alexinlabs.com/calendar/west-route/2025-11-11/
CATEGORIES:West Route
ORGANIZER;CN="Alexin Analytical Laboratories":MAILTO:mail@alexinlabs.com
END:VEVENT
BEGIN:VEVENT
DTSTART;VALUE=DATE:20251111
DTEND;VALUE=DATE:20251112
DTSTAMP:20260419T232839
CREATED:20250522T235317Z
LAST-MODIFIED:20250820T233751Z
UID:10001000-1762819200-1762905599@alexinlabs.com
SUMMARY:South Route
DESCRIPTION:
URL:https://alexinlabs.com/calendar/south-route/2025-11-11/
CATEGORIES:South Route
ORGANIZER;CN="Alexin Analytical Laboratories":MAILTO:mail@alexinlabs.com
END:VEVENT
BEGIN:VEVENT
DTSTART;VALUE=DATE:20251111
DTEND;VALUE=DATE:20251112
DTSTAMP:20260419T232839
CREATED:20250522T235238Z
LAST-MODIFIED:20250820T234350Z
UID:10000737-1762819200-1762905599@alexinlabs.com
SUMMARY:East Route
DESCRIPTION:
URL:https://alexinlabs.com/calendar/east-route/2025-11-11/
CATEGORIES:East Route
ORGANIZER;CN="Alexin Analytical Laboratories":MAILTO:mail@alexinlabs.com
END:VEVENT
BEGIN:VEVENT
DTSTART;VALUE=DATE:20251105
DTEND;VALUE=DATE:20251106
DTSTAMP:20260419T232839
CREATED:20250522T235453Z
LAST-MODIFIED:20250820T233030Z
UID:10000011-1762300800-1762387199@alexinlabs.com
SUMMARY:South Coast Route
DESCRIPTION:
URL:https://alexinlabs.com/calendar/south-coast-route/2025-11-05/
CATEGORIES:South Coast Route
ORGANIZER;CN="Alexin Analytical Laboratories":MAILTO:mail@alexinlabs.com
END:VEVENT
BEGIN:VEVENT
DTSTART;VALUE=DATE:20251105
DTEND;VALUE=DATE:20251106
DTSTAMP:20260419T232839
CREATED:20250522T235428Z
LAST-MODIFIED:20250820T233608Z
UID:10000212-1762300800-1762387199@alexinlabs.com
SUMMARY:North Coast Route
DESCRIPTION:
URL:https://alexinlabs.com/calendar/north-coast-route/2025-11-05/
CATEGORIES:North Coast Route
ORGANIZER;CN="Alexin Analytical Laboratories":MAILTO:mail@alexinlabs.com
END:VEVENT
BEGIN:VEVENT
DTSTART;VALUE=DATE:20251104
DTEND;VALUE=DATE:20251105
DTSTAMP:20260419T232839
CREATED:20250522T235359Z
LAST-MODIFIED:20250820T234046Z
UID:10000473-1762214400-1762300799@alexinlabs.com
SUMMARY:West Route
DESCRIPTION:
URL:https://alexinlabs.com/calendar/west-route/2025-11-04/
CATEGORIES:West Route
ORGANIZER;CN="Alexin Analytical Laboratories":MAILTO:mail@alexinlabs.com
END:VEVENT
BEGIN:VEVENT
DTSTART;VALUE=DATE:20251104
DTEND;VALUE=DATE:20251105
DTSTAMP:20260419T232839
CREATED:20250522T235317Z
LAST-MODIFIED:20250820T233751Z
UID:10000999-1762214400-1762300799@alexinlabs.com
SUMMARY:South Route
DESCRIPTION:
URL:https://alexinlabs.com/calendar/south-route/2025-11-04/
CATEGORIES:South Route
ORGANIZER;CN="Alexin Analytical Laboratories":MAILTO:mail@alexinlabs.com
END:VEVENT
BEGIN:VEVENT
DTSTART;VALUE=DATE:20251104
DTEND;VALUE=DATE:20251105
DTSTAMP:20260419T232839
CREATED:20250522T235238Z
LAST-MODIFIED:20250820T234350Z
UID:10000736-1762214400-1762300799@alexinlabs.com
SUMMARY:East Route
DESCRIPTION:
URL:https://alexinlabs.com/calendar/east-route/2025-11-04/
CATEGORIES:East Route
ORGANIZER;CN="Alexin Analytical Laboratories":MAILTO:mail@alexinlabs.com
END:VEVENT
BEGIN:VEVENT
DTSTART;VALUE=DATE:20251028
DTEND;VALUE=DATE:20251029
DTSTAMP:20260419T232839
CREATED:20250522T235359Z
LAST-MODIFIED:20250820T234046Z
UID:10000472-1761609600-1761695999@alexinlabs.com
SUMMARY:West Route
DESCRIPTION:
URL:https://alexinlabs.com/calendar/west-route/2025-10-28/
CATEGORIES:West Route
ORGANIZER;CN="Alexin Analytical Laboratories":MAILTO:mail@alexinlabs.com
END:VEVENT
BEGIN:VEVENT
DTSTART;VALUE=DATE:20251028
DTEND;VALUE=DATE:20251029
DTSTAMP:20260419T232839
CREATED:20250522T235317Z
LAST-MODIFIED:20250820T233751Z
UID:10000998-1761609600-1761695999@alexinlabs.com
SUMMARY:South Route
DESCRIPTION:
URL:https://alexinlabs.com/calendar/south-route/2025-10-28/
CATEGORIES:South Route
ORGANIZER;CN="Alexin Analytical Laboratories":MAILTO:mail@alexinlabs.com
END:VEVENT
BEGIN:VEVENT
DTSTART;VALUE=DATE:20251028
DTEND;VALUE=DATE:20251029
DTSTAMP:20260419T232839
CREATED:20250522T235238Z
LAST-MODIFIED:20250820T234350Z
UID:10000735-1761609600-1761695999@alexinlabs.com
SUMMARY:East Route
DESCRIPTION:
URL:https://alexinlabs.com/calendar/east-route/2025-10-28/
CATEGORIES:East Route
ORGANIZER;CN="Alexin Analytical Laboratories":MAILTO:mail@alexinlabs.com
END:VEVENT
BEGIN:VEVENT
DTSTART;VALUE=DATE:20251022
DTEND;VALUE=DATE:20251023
DTSTAMP:20260419T232839
CREATED:20250522T235428Z
LAST-MODIFIED:20250820T233608Z
UID:10000211-1761091200-1761177599@alexinlabs.com
SUMMARY:North Coast Route
DESCRIPTION:
URL:https://alexinlabs.com/calendar/north-coast-route/2025-10-22/
CATEGORIES:North Coast Route
ORGANIZER;CN="Alexin Analytical Laboratories":MAILTO:mail@alexinlabs.com
END:VEVENT
BEGIN:VEVENT
DTSTART;VALUE=DATE:20251021
DTEND;VALUE=DATE:20251022
DTSTAMP:20260419T232839
CREATED:20250522T235359Z
LAST-MODIFIED:20250820T234046Z
UID:10000471-1761004800-1761091199@alexinlabs.com
SUMMARY:West Route
DESCRIPTION:
URL:https://alexinlabs.com/calendar/west-route/2025-10-21/
CATEGORIES:West Route
ORGANIZER;CN="Alexin Analytical Laboratories":MAILTO:mail@alexinlabs.com
END:VEVENT
BEGIN:VEVENT
DTSTART;VALUE=DATE:20251021
DTEND;VALUE=DATE:20251022
DTSTAMP:20260419T232839
CREATED:20250522T235317Z
LAST-MODIFIED:20250820T233751Z
UID:10000997-1761004800-1761091199@alexinlabs.com
SUMMARY:South Route
DESCRIPTION:
URL:https://alexinlabs.com/calendar/south-route/2025-10-21/
CATEGORIES:South Route
ORGANIZER;CN="Alexin Analytical Laboratories":MAILTO:mail@alexinlabs.com
END:VEVENT
BEGIN:VEVENT
DTSTART;VALUE=DATE:20251021
DTEND;VALUE=DATE:20251022
DTSTAMP:20260419T232839
CREATED:20250522T235238Z
LAST-MODIFIED:20250820T234350Z
UID:10000734-1761004800-1761091199@alexinlabs.com
SUMMARY:East Route
DESCRIPTION:
URL:https://alexinlabs.com/calendar/east-route/2025-10-21/
CATEGORIES:East Route
ORGANIZER;CN="Alexin Analytical Laboratories":MAILTO:mail@alexinlabs.com
END:VEVENT
BEGIN:VEVENT
DTSTART;VALUE=DATE:20251015
DTEND;VALUE=DATE:20251016
DTSTAMP:20260419T232839
CREATED:20250605T214321Z
LAST-MODIFIED:20250820T233410Z
UID:10000132-1760486400-1760572799@alexinlabs.com
SUMMARY:South Coast Route
DESCRIPTION:
URL:https://alexinlabs.com/calendar/south-coast-route-2/2025-10-15/
CATEGORIES:South Coast Route
ORGANIZER;CN="Alexin Analytical Laboratories":MAILTO:mail@alexinlabs.com
END:VEVENT
BEGIN:VEVENT
DTSTART;VALUE=DATE:20251015
DTEND;VALUE=DATE:20251016
DTSTAMP:20260419T232839
CREATED:20250522T235428Z
LAST-MODIFIED:20250820T233608Z
UID:10000210-1760486400-1760572799@alexinlabs.com
SUMMARY:North Coast Route
DESCRIPTION:
URL:https://alexinlabs.com/calendar/north-coast-route/2025-10-15/
CATEGORIES:North Coast Route
ORGANIZER;CN="Alexin Analytical Laboratories":MAILTO:mail@alexinlabs.com
END:VEVENT
BEGIN:VEVENT
DTSTART;VALUE=DATE:20251014
DTEND;VALUE=DATE:20251015
DTSTAMP:20260419T232839
CREATED:20250522T235359Z
LAST-MODIFIED:20250820T234046Z
UID:10000470-1760400000-1760486399@alexinlabs.com
SUMMARY:West Route
DESCRIPTION:
URL:https://alexinlabs.com/calendar/west-route/2025-10-14/
CATEGORIES:West Route
ORGANIZER;CN="Alexin Analytical Laboratories":MAILTO:mail@alexinlabs.com
END:VEVENT
BEGIN:VEVENT
DTSTART;VALUE=DATE:20251014
DTEND;VALUE=DATE:20251015
DTSTAMP:20260419T232839
CREATED:20250522T235317Z
LAST-MODIFIED:20250820T233751Z
UID:10000996-1760400000-1760486399@alexinlabs.com
SUMMARY:South Route
DESCRIPTION:
URL:https://alexinlabs.com/calendar/south-route/2025-10-14/
CATEGORIES:South Route
ORGANIZER;CN="Alexin Analytical Laboratories":MAILTO:mail@alexinlabs.com
END:VEVENT
BEGIN:VEVENT
DTSTART;VALUE=DATE:20251014
DTEND;VALUE=DATE:20251015
DTSTAMP:20260419T232839
CREATED:20250522T235238Z
LAST-MODIFIED:20250820T234350Z
UID:10000733-1760400000-1760486399@alexinlabs.com
SUMMARY:East Route
DESCRIPTION:
URL:https://alexinlabs.com/calendar/east-route/2025-10-14/
CATEGORIES:East Route
ORGANIZER;CN="Alexin Analytical Laboratories":MAILTO:mail@alexinlabs.com
END:VEVENT
BEGIN:VEVENT
DTSTART;VALUE=DATE:20251008
DTEND;VALUE=DATE:20251009
DTSTAMP:20260419T232839
CREATED:20250522T235428Z
LAST-MODIFIED:20250820T233608Z
UID:10000209-1759881600-1759967999@alexinlabs.com
SUMMARY:North Coast Route
DESCRIPTION:
URL:https://alexinlabs.com/calendar/north-coast-route/2025-10-08/
CATEGORIES:North Coast Route
ORGANIZER;CN="Alexin Analytical Laboratories":MAILTO:mail@alexinlabs.com
END:VEVENT
BEGIN:VEVENT
DTSTART;VALUE=DATE:20251007
DTEND;VALUE=DATE:20251008
DTSTAMP:20260419T232839
CREATED:20250522T235359Z
LAST-MODIFIED:20250820T234046Z
UID:10000469-1759795200-1759881599@alexinlabs.com
SUMMARY:West Route
DESCRIPTION:
URL:https://alexinlabs.com/calendar/west-route/2025-10-07/
CATEGORIES:West Route
ORGANIZER;CN="Alexin Analytical Laboratories":MAILTO:mail@alexinlabs.com
END:VEVENT
BEGIN:VEVENT
DTSTART;VALUE=DATE:20251007
DTEND;VALUE=DATE:20251008
DTSTAMP:20260419T232839
CREATED:20250522T235317Z
LAST-MODIFIED:20250820T233751Z
UID:10000995-1759795200-1759881599@alexinlabs.com
SUMMARY:South Route
DESCRIPTION:
URL:https://alexinlabs.com/calendar/south-route/2025-10-07/
CATEGORIES:South Route
ORGANIZER;CN="Alexin Analytical Laboratories":MAILTO:mail@alexinlabs.com
END:VEVENT
BEGIN:VEVENT
DTSTART;VALUE=DATE:20251007
DTEND;VALUE=DATE:20251008
DTSTAMP:20260419T232839
CREATED:20250522T235238Z
LAST-MODIFIED:20250820T234350Z
UID:10000732-1759795200-1759881599@alexinlabs.com
SUMMARY:East Route
DESCRIPTION:
URL:https://alexinlabs.com/calendar/east-route/2025-10-07/
CATEGORIES:East Route
ORGANIZER;CN="Alexin Analytical Laboratories":MAILTO:mail@alexinlabs.com
END:VEVENT
BEGIN:VEVENT
DTSTART;VALUE=DATE:20251001
DTEND;VALUE=DATE:20251002
DTSTAMP:20260419T232839
CREATED:20250522T235453Z
LAST-MODIFIED:20250820T233030Z
UID:10000010-1759276800-1759363199@alexinlabs.com
SUMMARY:South Coast Route
DESCRIPTION:
URL:https://alexinlabs.com/calendar/south-coast-route/2025-10-01/
CATEGORIES:South Coast Route
ORGANIZER;CN="Alexin Analytical Laboratories":MAILTO:mail@alexinlabs.com
END:VEVENT
BEGIN:VEVENT
DTSTART;VALUE=DATE:20251001
DTEND;VALUE=DATE:20251002
DTSTAMP:20260419T232839
CREATED:20250522T235428Z
LAST-MODIFIED:20250820T233608Z
UID:10000208-1759276800-1759363199@alexinlabs.com
SUMMARY:North Coast Route
DESCRIPTION:
URL:https://alexinlabs.com/calendar/north-coast-route/2025-10-01/
CATEGORIES:North Coast Route
ORGANIZER;CN="Alexin Analytical Laboratories":MAILTO:mail@alexinlabs.com
END:VEVENT
BEGIN:VEVENT
DTSTART;VALUE=DATE:20250930
DTEND;VALUE=DATE:20251001
DTSTAMP:20260419T232839
CREATED:20250522T235359Z
LAST-MODIFIED:20250820T234046Z
UID:10000468-1759190400-1759276799@alexinlabs.com
SUMMARY:West Route
DESCRIPTION:
URL:https://alexinlabs.com/calendar/west-route/2025-09-30/
CATEGORIES:West Route
ORGANIZER;CN="Alexin Analytical Laboratories":MAILTO:mail@alexinlabs.com
END:VEVENT
END:VCALENDAR